BEGIN:VCALENDAR
VERSION:2.0
PRODID:-//jEvents 2.0 for Joomla//EN
CALSCALE:GREGORIAN
METHOD:PUBLISH
BEGIN:VTIMEZONE
TZID:Europe/Berlin
BEGIN:STANDARD
DTSTART:20211031T020000
RDATE:20220327T030000
TZOFFSETFROM:+0200
TZOFFSETTO:+0100
TZNAME:Europe/Berlin CET
END:STANDARD
BEGIN:STANDARD
DTSTART:20221030T020000
RDATE:20230326T030000
TZOFFSETFROM:+0200
TZOFFSETTO:+0100
TZNAME:Europe/Berlin CET
END:STANDARD
BEGIN:STANDARD
DTSTART:20231029T020000
RDATE:20240331T030000
TZOFFSETFROM:+0200
TZOFFSETTO:+0100
TZNAME:Europe/Berlin CET
END:STANDARD
BEGIN:STANDARD
DTSTART:20241027T020000
RDATE:20250330T030000
TZOFFSETFROM:+0200
TZOFFSETTO:+0100
TZNAME:Europe/Berlin CET
END:STANDARD
BEGIN:DAYLIGHT
DTSTART:20210422T150000
RDATE:20211031T020000
TZOFFSETFROM:+0100
TZOFFSETTO:+0200
TZNAME:Europe/Berlin CEST
END:DAYLIGHT
BEGIN:DAYLIGHT
DTSTART:20220327T030000
RDATE:20221030T020000
TZOFFSETFROM:+0100
TZOFFSETTO:+0200
TZNAME:Europe/Berlin CEST
END:DAYLIGHT
BEGIN:DAYLIGHT
DTSTART:20230326T030000
RDATE:20231029T020000
TZOFFSETFROM:+0100
TZOFFSETTO:+0200
TZNAME:Europe/Berlin CEST
END:DAYLIGHT
BEGIN:DAYLIGHT
DTSTART:20240331T030000
RDATE:20241027T020000
TZOFFSETFROM:+0100
TZOFFSETTO:+0200
TZNAME:Europe/Berlin CEST
END:DAYLIGHT
END:VTIMEZONE
BEGIN:VEVENT
UID:e58b8df0d6a929731027494ed7480937
CATEGORIES:Ausflüge und Exkursionen
CREATED:20220321T150222
SUMMARY:Führung durch „Das einstige Fischerdorf Kleinhüningen“
LOCATION:Haltestelle Linie 8 Kleinhüninger Anlage
DESCRIPTION:Am Samstag, den 23. April 2022, führt uns Sabine Theil durch „Das einstige 
 Fischerdorf Kleinhüningen“, das erst 1640 von Baden an Basel verkauft wurde
 . Beginn 15.00 Uhr an der Haltestelle Kleinhüningen der Linie 8, Ende an de
 r Haltestelle Kleinhüninger Anlage.\nDauer der Führung ca. 90 Minuten. Die 
 Kosten für die Führung trägt der Verein. Gäste zahlen 7,-.\n
X-ALT-DESC;FMTTYPE=text/html:<p>Am&nbsp;Samstag, den 23. April 2022, führt uns Sabine Theil durch „Das e
 instige Fischerdorf&nbsp;Kleinhüningen“, das erst 1640 von Baden an Basel v
 erkauft wurde. Beginn 15.00 Uhr an der Haltestelle&nbsp;<em>Kleinhüningen</
 em>&nbsp;der Linie 8, Ende an der Haltestelle&nbsp;<em>Kleinhüninger</em><e
 m>&nbsp;Anlage.</em></p><p>Dauer der Führung ca. 90 Minuten. Die Kosten für
  die Führung trägt der Verein.&nbsp;Gäste zahlen 7,-.</p>
CONTACT:Diese E-Mail-Adresse ist vor Spambots geschützt! Zur Anzeige muss JavaScript eingeschaltet sein.
DTSTAMP:20260422T190710
DTSTART;TZID=Europe/Berlin:20220423T150000
SEQUENCE:0
TRANSP:OPAQUE
END:VEVENT
END:VCALENDAR