BEGIN:VCALENDAR
VERSION:2.0
PRODID:-//jEvents 2.0 for Joomla//EN
CALSCALE:GREGORIAN
METHOD:PUBLISH
BEGIN:VTIMEZONE
TZID:Europe/Berlin
BEGIN:STANDARD
DTSTART:20211031T020000
RDATE:20220327T030000
TZOFFSETFROM:+0200
TZOFFSETTO:+0100
TZNAME:Europe/Berlin CET
END:STANDARD
BEGIN:STANDARD
DTSTART:20221030T020000
RDATE:20230326T030000
TZOFFSETFROM:+0200
TZOFFSETTO:+0100
TZNAME:Europe/Berlin CET
END:STANDARD
BEGIN:STANDARD
DTSTART:20231029T020000
RDATE:20240331T030000
TZOFFSETFROM:+0200
TZOFFSETTO:+0100
TZNAME:Europe/Berlin CET
END:STANDARD
BEGIN:STANDARD
DTSTART:20241027T020000
RDATE:20250330T030000
TZOFFSETFROM:+0200
TZOFFSETTO:+0100
TZNAME:Europe/Berlin CET
END:STANDARD
BEGIN:DAYLIGHT
DTSTART:20210407T080000
RDATE:20211031T020000
TZOFFSETFROM:+0100
TZOFFSETTO:+0200
TZNAME:Europe/Berlin CEST
END:DAYLIGHT
BEGIN:DAYLIGHT
DTSTART:20220327T030000
RDATE:20221030T020000
TZOFFSETFROM:+0100
TZOFFSETTO:+0200
TZNAME:Europe/Berlin CEST
END:DAYLIGHT
BEGIN:DAYLIGHT
DTSTART:20230326T030000
RDATE:20231029T020000
TZOFFSETFROM:+0100
TZOFFSETTO:+0200
TZNAME:Europe/Berlin CEST
END:DAYLIGHT
BEGIN:DAYLIGHT
DTSTART:20240331T030000
RDATE:20241027T020000
TZOFFSETFROM:+0100
TZOFFSETTO:+0200
TZNAME:Europe/Berlin CEST
END:DAYLIGHT
END:VTIMEZONE
BEGIN:VEVENT
UID:79725b6b122905ee3adbec49c3ccd262
CATEGORIES:Workshops und Seminare
CREATED:20220408T003347
SUMMARY:Internationale Schopfheimer Mund-Art Literatur-Werkstatt
LOCATION:Stapflehus Altweil
DESCRIPTION:Internationale Schopfheimer Mund-Art Literatur-Werkstatt \nkommt nach Weil\
 n\nNach zwei Jahren erzwungener Coronapause treffen sich am kommenden Woche
 nende wieder die Freunde literarischer Mundart-Dichtung unter anderem in de
 r 3-Länder-Stadt. \nWeil am Rhein. Die „32. Internationale Schopfheimer Mun
 d-Art Literatur-Werkstatt“ findet vom 8. bis 10. April 2022 statt und begin
 nt am Freitagabend um 20 Uhr im Stapflehus in Altweil. Nach der Werkstattar
 beit in der Stadtbibliothek Schopfheim am Samstag zum Thema "Das Paradies a
 uf Erden" und dem Empfang im Rathaus findet abends um 20 Uhr der erste Auft
 ritt in Sankt Agathen in Schopfheim-Fahrnau statt. Am Sonntag um 11 Uhr fol
 gt ein zweiter Auftritt in der Bibliothek der „Allgemeinen Lesegesellschaft
  Basel“, direkt neben dem Münster. \nIm Stapflehus wird eine äußerst spanne
 nde Mischung von Dialekten zu hören sein, wenn zum Beispiel der Elsässische
  Liedermacher Daniel Muringer mit seinem urwüchsigen Alemannisch auf die ju
 nge Hotzenwälderin mit indischen Wurzeln, Sandhya Hasswani trifft oder die 
 Vorarlberger Österreicherin Astrid Marte auf den Nordbadener Thomas Liebsch
 er mit seinem südfränkischen „Badisch“. Auftreten werden darüber hinaus der
  Innerschweizer Schauspieler und Autor Hanspeter Müller-Drossaart und der O
 rganisator der etablierten Veranstaltungsreihe, Markus Manfred Jung. Moderi
 ert wird der Abend im Stapflehus erneut von Volker Habermaier, der diese Au
 fgabe bereits seit 17 Jahren übernimmt.\n
X-ALT-DESC;FMTTYPE=text/html:<p><strong>Internationale Schopfheimer Mund-Art Literatur-Werkstatt&nbsp;<b
 r /></strong><strong>kommt nach Weil</strong></p><p><br /><strong>Nach zwei
  Jahren erzwungener Coronapause treffen sich am kommenden Wochenende wieder
  die Freunde literarischer Mundart-Dichtung unter anderem in der 3-Länder-S
 tadt.&nbsp;<br />Weil am Rhein. Die „32. Internationale Schopfheimer Mund-A
 rt Literatur-Werkstatt“ findet vom 8. bis 10. April 2022 statt und beginnt 
 am Freitagabend um 20 Uhr im Stapflehus in Altweil. Nach der Werkstattarbei
 t in der Stadtbibliothek Schopfheim am Samstag zum Thema "Das Paradies auf 
 Erden" und dem Empfang im Rathaus findet abends um 20 Uhr der erste Auftrit
 t in Sankt Agathen in Schopfheim-Fahrnau statt. Am Sonntag um 11 Uhr folgt 
 ein zweiter Auftritt in der Bibliothek der „Allgemeinen Lesegesellschaft Ba
 sel“, direkt neben dem Münster.&nbsp;<br />Im Stapflehus wird eine äußerst 
 spannende Mischung von Dialekten zu hören sein, wenn zum Beispiel der Elsäs
 sische Liedermacher Daniel Muringer mit seinem urwüchsigen Alemannisch auf 
 die junge Hotzenwälderin mit indischen Wurzeln, Sandhya Hasswani trifft ode
 r die Vorarlberger Österreicherin Astrid Marte auf den Nordbadener Thomas L
 iebscher mit seinem südfränkischen „Badisch“. Auftreten werden darüber hina
 us der Innerschweizer Schauspieler und Autor Hanspeter Müller-Drossaart und
  der Organisator der etablierten Veranstaltungsreihe, Markus Manfred Jung. 
 Moderiert wird der Abend im Stapflehus erneut von Volker Habermaier, der di
 ese Aufgabe bereits seit 17 Jahren übernimmt.</strong></p>
CONTACT:Markus Manfred Jung
DTSTAMP:20260422T202654
DTSTART;TZID=Europe/Berlin:20220408T080000
DTEND;TZID=Europe/Berlin;VALUE=DATE:20220411
SEQUENCE:0
TRANSP:OPAQUE
END:VEVENT
END:VCALENDAR