BEGIN:VCALENDAR
VERSION:2.0
PRODID:-//jEvents 2.0 for Joomla//EN
CALSCALE:GREGORIAN
METHOD:PUBLISH
BEGIN:VTIMEZONE
TZID:Europe/Berlin
BEGIN:STANDARD
DTSTART:20211031T020000
RDATE:20220327T030000
TZOFFSETFROM:+0200
TZOFFSETTO:+0100
TZNAME:Europe/Berlin CET
END:STANDARD
BEGIN:STANDARD
DTSTART:20221030T020000
RDATE:20230326T030000
TZOFFSETFROM:+0200
TZOFFSETTO:+0100
TZNAME:Europe/Berlin CET
END:STANDARD
BEGIN:STANDARD
DTSTART:20231029T020000
RDATE:20240331T030000
TZOFFSETFROM:+0200
TZOFFSETTO:+0100
TZNAME:Europe/Berlin CET
END:STANDARD
BEGIN:STANDARD
DTSTART:20241027T020000
RDATE:20250330T030000
TZOFFSETFROM:+0200
TZOFFSETTO:+0100
TZNAME:Europe/Berlin CET
END:STANDARD
BEGIN:DAYLIGHT
DTSTART:20210701T180000
RDATE:20211031T020000
TZOFFSETFROM:+0100
TZOFFSETTO:+0200
TZNAME:Europe/Berlin CEST
END:DAYLIGHT
BEGIN:DAYLIGHT
DTSTART:20220327T030000
RDATE:20221030T020000
TZOFFSETFROM:+0100
TZOFFSETTO:+0200
TZNAME:Europe/Berlin CEST
END:DAYLIGHT
BEGIN:DAYLIGHT
DTSTART:20230326T030000
RDATE:20231029T020000
TZOFFSETFROM:+0100
TZOFFSETTO:+0200
TZNAME:Europe/Berlin CEST
END:DAYLIGHT
BEGIN:DAYLIGHT
DTSTART:20240331T030000
RDATE:20241027T020000
TZOFFSETFROM:+0100
TZOFFSETTO:+0200
TZNAME:Europe/Berlin CEST
END:DAYLIGHT
END:VTIMEZONE
BEGIN:VEVENT
UID:fbce8b4d6495cc03430a745b30f2e19f
CATEGORIES:Fest
CREATED:20220523T095246
SUMMARY:Fischerfest Märkt
DESCRIPTION:Fischerfeschdli am 02. Juli und 03. Juli 2022In diesem Jahr bietet der Musi
 kverein Märkt Ihnen am Samstag, den 02.Juli ab 18:00 Uhr und am Sonntag, de
 n 03.Juli ab 11:00 Uhr in kleinerem Rahmen wieder unsere frittierten Forell
 en an. Diese Forellen können sie vor Ort am Fischweiher in Märkt in geselli
 ger Runde genießen, oder auch als \n„to-go“ nach Hause mitnehmen. Auch wer 
 keinen Fisch mag muss nicht hungern. Es gibt Grillwürste, Schinkenweckli un
 d Käseweckli und wer was Süßes mag, Kaffee und Kuchen.\nAuch dieses Jahr bi
 eten wir Ihnen an, wer seine Forellen vorbestellen möchte zum Abholen oder 
 zumEssen vor Ort, kann dies gerne tun. Vorbestellung möglich bis 04.Juni 20
 22 Die Bestellungen erfolgen am besten per e-mail an „Diese E-Mail-Adresse 
 ist vor Spambots geschützt! Zur Anzeige muss JavaScript eingeschaltet sein.
 “ oder telefonisch bei Birgitta Götzmann Tel.: 07628/8364 oder Kurt Zimmerm
 ann Tel.: 07621/1603824. Es gibt selbstverständlich auch Fische ohne Vorbes
 tellung solange unser Vorrat reicht.\nBitte teilen Sie uns Ihren Wunschterm
 in mit Uhrzeit zur Abholung mit. Sie erhalten eine Bestätigung Ihrer Bestel
 lung. Sollten Sie diese nicht erhalten kontaktieren Sie uns bitte.Der Musik
 verein freut sich über Ihr Erscheinen auf unserem „Feschdli“, welches bei j
 edem Wetter stattfinden wird.\nBitte beachten Sie, dass auf dem Feschdli Ba
 rzahlung gilt.\n
X-ALT-DESC;FMTTYPE=text/html:<h3><span dir="ltr" role="presentation">Fischerfeschdli am 02. Juli und 03.
  Juli 2022</span></h3><p><span dir="ltr" role="presentation">In diesem Jahr
  bietet der Musikverein Märkt Ihnen am Samstag, den 02.Juli ab 18:00 Uhr un
 d am </span><br role="presentation" /><span dir="ltr" role="presentation">S
 onntag, den 03.Juli ab 11:00 Uhr in kleinerem Rahmen wieder unsere frittier
 ten Forellen an. Diese </span><br role="presentation" /><span dir="ltr" rol
 e="presentation">Forellen können sie vor Ort am Fischweiher in Märkt in ges
 elliger Runde genießen, oder auch als <br />„to-</span><span dir="ltr" role
 ="presentation">go“ nach Hause mitnehmen. Auch wer keinen Fisch mag muss ni
 cht hungern. Es gibt Grillwürste, </span><br role="presentation" /><span di
 r="ltr" role="presentation">Schinkenweckli und Käseweckli und wer was Süßes
  mag, Kaffee und Kuchen.</span></p><p><span dir="ltr" role="presentation">A
 uch dieses Jahr bieten wir Ihnen an, wer seine Forellen vorbestellen möchte
  zum Abholen oder zum</span><br role="presentation" /><span dir="ltr" role=
 "presentation">Essen vor Ort, kann dies gerne tun. Vorbestellung möglich bi
 s 04.Juni 2022 Die Bestellungen erfolgen </span><br role="presentation" /><
 span dir="ltr" role="presentation">am besten per e-mail an „<joomla-hidden-
 mail  is-link="1" is-email="1" first="ZmlzY2h0b2dv" last="bXVzaWt2ZXJlaW4tb
 WFlcmt0LmRl" text="ZmlzY2h0b2dvQG11c2lrdmVyZWluLW1hZXJrdC5kZQ==" base="" >D
 iese E-Mail-Adresse ist vor Spambots geschützt! Zur Anzeige muss JavaScript
  eingeschaltet sein.</joomla-hidden-mail>“ oder telefonisch bei Birgitta Gö
 tzmann </span><br role="presentation" /><span dir="ltr" role="presentation"
 >Tel.: 07628/8364 oder Kurt Zimmermann Tel.: 07621/1603824. Es gibt selbstv
 erständlich auch Fische </span><br role="presentation" /><span dir="ltr" ro
 le="presentation">ohne Vorbestellung solange unser Vorrat reicht.</span></p
 ><p><span dir="ltr" role="presentation">Bitte teilen Sie uns Ihren Wunschte
 rmin mit Uhrzeit zur Abholung mit. Sie erhalten eine Bestätigung </span><br
  role="presentation" /><span dir="ltr" role="presentation">Ihrer Bestellung
 . Sollten Sie diese nicht erhalten kontaktieren Sie uns bitte.</span><br ro
 le="presentation" /><span dir="ltr" role="presentation">Der Musikverein fre
 ut sich über Ihr Erscheinen auf unserem „Feschdli“, welches bei jedem Wette
 r </span><br role="presentation" /><span dir="ltr" role="presentation">stat
 tfinden wird.</span></p><p><span dir="ltr" role="presentation">Bitte beacht
 en Sie, dass auf dem Feschdli Barzahlung gilt.</span></p>
DTSTAMP:20260423T005106
DTSTART;TZID=Europe/Berlin:20220702T180000
SEQUENCE:0
TRANSP:OPAQUE
END:VEVENT
END:VCALENDAR