BEGIN:VCALENDAR
VERSION:2.0
PRODID:-//jEvents 2.0 for Joomla//EN
CALSCALE:GREGORIAN
METHOD:PUBLISH
BEGIN:VTIMEZONE
TZID:Europe/Berlin
BEGIN:STANDARD
DTSTART:20211031T020000
RDATE:20220327T030000
TZOFFSETFROM:+0200
TZOFFSETTO:+0100
TZNAME:Europe/Berlin CET
END:STANDARD
BEGIN:STANDARD
DTSTART:20221030T020000
RDATE:20230326T030000
TZOFFSETFROM:+0200
TZOFFSETTO:+0100
TZNAME:Europe/Berlin CET
END:STANDARD
BEGIN:STANDARD
DTSTART:20231029T020000
RDATE:20240331T030000
TZOFFSETFROM:+0200
TZOFFSETTO:+0100
TZNAME:Europe/Berlin CET
END:STANDARD
BEGIN:STANDARD
DTSTART:20241027T020000
RDATE:20250330T030000
TZOFFSETFROM:+0200
TZOFFSETTO:+0100
TZNAME:Europe/Berlin CET
END:STANDARD
BEGIN:DAYLIGHT
DTSTART:20210901T160000
RDATE:20211031T020000
TZOFFSETFROM:+0100
TZOFFSETTO:+0200
TZNAME:Europe/Berlin CEST
END:DAYLIGHT
BEGIN:DAYLIGHT
DTSTART:20220327T030000
RDATE:20221030T020000
TZOFFSETFROM:+0100
TZOFFSETTO:+0200
TZNAME:Europe/Berlin CEST
END:DAYLIGHT
BEGIN:DAYLIGHT
DTSTART:20230326T030000
RDATE:20231029T020000
TZOFFSETFROM:+0100
TZOFFSETTO:+0200
TZNAME:Europe/Berlin CEST
END:DAYLIGHT
BEGIN:DAYLIGHT
DTSTART:20240331T030000
RDATE:20241027T020000
TZOFFSETFROM:+0100
TZOFFSETTO:+0200
TZNAME:Europe/Berlin CEST
END:DAYLIGHT
END:VTIMEZONE
BEGIN:VEVENT
UID:28b0e71134be4caa4078899efd1ff56c
CATEGORIES:Ausstellungen
CREATED:20220831T114917
SUMMARY:Museum Weiler Textilgeschichte, verlängertes Wochenende
DESCRIPTION:Das Museum Weiler Textilgeschichte startet aus der Sommerpause mit erweiter
 ten Öffnungszeiten. Parallel zum KunsthandwerkerForum im Kesselhaus-Saal öf
 fnet auch das Museum für Besucher und zwar am Freitag, den 2.9.2022 von 16:
 00 bis 21:00 Uhr sowie am Samstag, den 3.9.2022 von 11:00 bis 18:00 Uhr. Re
 gulär geöffnet ist am Sonntag, den 4.9.2022 von 14:00 bis 18:00 Uhr. Im Mus
 eum Weiler Textilgeschichte erzählen zahlreiche, interessante Objekte, Bild
 er und Modelle von der Geschichte der Textilindustrie in Weil am Rhein, die
  1880 mit der Gründung eines ersten Färbereibetriebs ihren Anfang nahm. Spä
 ter kam es zur Ansiedlung der Färberei &amp; Appretur Schetty (1898) und sc
 hließlich der Seidenstoffweberei Robert Schwarzenbach (1923). Die ehemalige
  Schreinerei und Schlosserei des Schwarzenbach-Betriebs in Friedlingen sind
  liebevoll restauriert und beheimaten das Museum. Zu sehen sind ferner eins
 tige Lohnbücher, Webschützen, Garnspulen, Lochkarten und Musterzeichnungen.
  An den drei Tagen ist der Eintritt für Besucher frei.\n\nMuseum Weiler Tex
 tilgeschichte\nAm Kesselhaus 23, 79576 Weil am Rhein * Friedlingen\nÖffnung
 szeiten: jeden Sonntag 14:00-18:00 Uhr und an Wochenendveranstaltungen\n\nD
 r. Barbara Brutscher\nStädt. Museen Weil am Rhein | museum management | res
 ponsable des musées\n\nStadt Weil am Rhein\nKulturamt / Städtische Museen\n
 Rathausplatz 1\n79576 Weil am Rhein\n\nTel. +49  7621 704-416\nFax +49  762
 1 704-55410\nE-Mail Diese E-Mail-Adresse ist vor Spambots geschützt! Zur An
 zeige muss JavaScript eingeschaltet sein.\n\nBürozeiten Rathaus (B 3.49 nac
 h Voranmeldung)\nDo. + Fr.  8:30-12:00 Uhr\n\nBürozeiten Museum am Lindenpl
 atz\nMo. + Di. 8:30-12:00 Uhr\nTel. +49 7621 792 219\n\nwww.museen-weil-am-
 rhein.de (https://deref-gmx.net/mail/client/N110yKeVP7o/dereferrer/?redirec
 tUrl=http%3A%2F%2Fwww.museen-weil-am-rhein.de)<a href="https://deref-gmx.ne
 t/mail/client/5VrK0hpnaiw/dereferrer/?redirectUrl=https%3A%2F%2Fwww.weiler-
 kultur.de%2F" target="_blank" rel="noopener">\nwww.weiler-kultur.de</a>\nww
 w.weil-am-rhein.de (https://deref-gmx.net/mail/client/9JeU-NnR3r8/dereferre
 r/?redirectUrl=https%3A%2F%2Fwww.weil-am-rhein.de%2F)\n\n\n
X-ALT-DESC;FMTTYPE=text/html:<p>Das Museum Weiler Textilgeschichte startet aus der Sommerpause mit erwei
 terten Öffnungszeiten. Parallel zum KunsthandwerkerForum im Kesselhaus-Saal
  öffnet auch das Museum für Besucher und zwar am Freitag, den 2.9.2022 von 
 16:00 bis 21:00 Uhr sowie am Samstag, den 3.9.2022 von 11:00 bis 18:00 Uhr.
  Regulär geöffnet ist am Sonntag, den 4.9.2022 von 14:00 bis 18:00 Uhr. Im 
 Museum Weiler Textilgeschichte erzählen zahlreiche, interessante Objekte, B
 ilder und Modelle von der Geschichte der Textilindustrie in Weil am Rhein, 
 die 1880 mit der Gründung eines ersten Färbereibetriebs ihren Anfang nahm. 
 Später kam es zur Ansiedlung der Färberei &amp; Appretur Schetty (1898) und
  schließlich der Seidenstoffweberei Robert Schwarzenbach (1923). Die ehemal
 ige Schreinerei und Schlosserei des Schwarzenbach-Betriebs in Friedlingen s
 ind liebevoll restauriert und beheimaten das Museum. Zu sehen sind ferner e
 instige Lohnbücher, Webschützen, Garnspulen, Lochkarten und Musterzeichnung
 en. An den drei Tagen ist der Eintritt für Besucher frei.<br /><br />Museum
  Weiler Textilgeschichte<br />Am Kesselhaus 23, 79576 Weil am Rhein * Fried
 lingen<br />Öffnungszeiten: jeden Sonntag 14:00-18:00 Uhr und an Wochenendv
 eranstaltungen</p><p><br />Dr. Barbara Brutscher<br />Städt. Museen Weil am
  Rhein | museum management | responsable des musées<br /><br />Stadt Weil a
 m Rhein<br />Kulturamt / Städtische Museen<br />Rathausplatz 1<br />79576 W
 eil am Rhein<br /><br />Tel. +49 &nbsp;7621 704-416<br />Fax +49 &nbsp;7621
  704-55410<br />E-Mail <joomla-hidden-mail  is-link="1" is-email="1" first=
 "Yi5icnV0c2NoZXI=" last="d2VpbC1hbS1yaGVpbi5kZQ==" text="Yi5icnV0c2NoZXJAd2
 VpbC1hbS1yaGVpbi5kZQ==" base="" >Diese E-Mail-Adresse ist vor Spambots gesc
 hützt! Zur Anzeige muss JavaScript eingeschaltet sein.</joomla-hidden-mail>
 <br /><br />Bürozeiten Rathaus (B 3.49 nach Voranmeldung)<br />Do. + Fr. &n
 bsp;8:30-12:00 Uhr<br /><br />Bürozeiten Museum am Lindenplatz<br />Mo. + D
 i. 8:30-12:00 Uhr<br />Tel. +49 7621 792 219<br /><br /><a href="https://de
 ref-gmx.net/mail/client/N110yKeVP7o/dereferrer/?redirectUrl=http%3A%2F%2Fww
 w.museen-weil-am-rhein.de" target="_blank" rel="noopener">www.museen-weil-a
 m-rhein.de</a><a href="https://deref-gmx.net/mail/client/5VrK0hpnaiw/derefe
 rrer/?redirectUrl=https%3A%2F%2Fwww.weiler-kultur.de%2F" target="_blank" re
 l="noopener"><br /><span style="text-decoration: underline;">www.weiler-kul
 tur.de</span></a><br /><a href="https://deref-gmx.net/mail/client/9JeU-NnR3
 r8/dereferrer/?redirectUrl=https%3A%2F%2Fwww.weil-am-rhein.de%2F" target="_
 blank" rel="noopener"><span style="text-decoration: underline;">www.weil-am
 -rhein.de</span></a><br /><br /></p>
DTSTAMP:20260422T204825
DTSTART;TZID=Europe/Berlin:20220902T160000
DTEND;TZID=Europe/Berlin:20220902T210000
SEQUENCE:0
TRANSP:OPAQUE
END:VEVENT
END:VCALENDAR