BEGIN:VCALENDAR
VERSION:2.0
PRODID:-//jEvents 2.0 for Joomla//EN
CALSCALE:GREGORIAN
METHOD:PUBLISH
BEGIN:VTIMEZONE
TZID:Europe/Berlin
BEGIN:STANDARD
DTSTART:20211031T020000
RDATE:20220327T030000
TZOFFSETFROM:+0200
TZOFFSETTO:+0100
TZNAME:Europe/Berlin CET
END:STANDARD
BEGIN:STANDARD
DTSTART:20221030T020000
RDATE:20230326T030000
TZOFFSETFROM:+0200
TZOFFSETTO:+0100
TZNAME:Europe/Berlin CET
END:STANDARD
BEGIN:STANDARD
DTSTART:20231029T020000
RDATE:20240331T030000
TZOFFSETFROM:+0200
TZOFFSETTO:+0100
TZNAME:Europe/Berlin CET
END:STANDARD
BEGIN:STANDARD
DTSTART:20241027T020000
RDATE:20250330T030000
TZOFFSETFROM:+0200
TZOFFSETTO:+0100
TZNAME:Europe/Berlin CET
END:STANDARD
BEGIN:DAYLIGHT
DTSTART:20210715T100000
RDATE:20211031T020000
TZOFFSETFROM:+0100
TZOFFSETTO:+0200
TZNAME:Europe/Berlin CEST
END:DAYLIGHT
BEGIN:DAYLIGHT
DTSTART:20220327T030000
RDATE:20221030T020000
TZOFFSETFROM:+0100
TZOFFSETTO:+0200
TZNAME:Europe/Berlin CEST
END:DAYLIGHT
BEGIN:DAYLIGHT
DTSTART:20230326T030000
RDATE:20231029T020000
TZOFFSETFROM:+0100
TZOFFSETTO:+0200
TZNAME:Europe/Berlin CEST
END:DAYLIGHT
BEGIN:DAYLIGHT
DTSTART:20240331T030000
RDATE:20241027T020000
TZOFFSETFROM:+0100
TZOFFSETTO:+0200
TZNAME:Europe/Berlin CEST
END:DAYLIGHT
END:VTIMEZONE
BEGIN:VEVENT
UID:d5190aee921ab50dba9e9e227d14fe17
CATEGORIES:Workshops und Seminare
CREATED:20220712T141434
SUMMARY:Seminar Öffentlichkeitsarbeit für Vereine
LOCATION:Altes Rathaus; Großer Saal\, Hinterdorfstrasse 39\, Weil am Rhein
DESCRIPTION:Liebe Vereine und Kultur-Kollegen,\n\ngerne möchten wir Sie nochmal auf ein
  kostenloses Seminar hinweisen, dass am Samstag, 16.07.2022 stattfinden. Bi
 tte leiten Sie diese Mail auch gerne an andere Vereinsmitglieder aus Weil a
 m Rhein und Umgebung weiter.\n\nHier gehts zur Anmeldung\n\n (https://deref
 -gmx.net/mail/client/9qY98UtKG3s/dereferrer/?redirectUrl=https%3A%2F%2Fwww.
 vhs-weil-am-rhein.de%2Fprogramm%2Fberuf-und-edv.html%2Fkurs%2F556-C-221-507
 03%2Ft%2Foeffentlichkeitsarbeit-fuer-vereine)<a href="https://www.vhs-weil-
 am-rhein.de/programm/beruf-und-edv.html/kurs/556-C-221-50703/t/oeffentlichk
 eitsarbeit-fuer-vereine">https://www.vhs-weil-am-rhein.de/programm/beruf-un
 d-edv.html/kurs/556-C-221-50703/t/oeffentlichkeitsarbeit-fuer-vereine</a>\n
 \nDer Besuch des Seminars ist kostenlos\n\nWir freuen uns über Ihre Anmeldu
 ng.\n\nFreundliche Grüsse\n\n***\nStadt Weil am Rhein\nKulturamt\nHumboldts
 tr. 2\n79576 Weil am Rhein\n\nTel. +49  7621 704-412\nE-Mail: Diese E-Mail-
 Adresse ist vor Spambots geschützt! Zur Anzeige muss JavaScript eingeschalt
 et sein.\n
X-ALT-DESC;FMTTYPE=text/html:<p>Liebe Vereine und Kultur-Kollegen,<br /><br />gerne möchten wir Sie noch
 mal auf ein kostenloses Seminar hinweisen, dass am Samstag, 16.07.2022 stat
 tfinden. Bitte leiten Sie diese Mail auch gerne an andere Vereinsmitglieder
  aus Weil am Rhein und Umgebung weiter.<br /><br />Hier gehts zur Anmeldung
 <br /><br /><a href="https://deref-gmx.net/mail/client/9qY98UtKG3s/dereferr
 er/?redirectUrl=https%3A%2F%2Fwww.vhs-weil-am-rhein.de%2Fprogramm%2Fberuf-u
 nd-edv.html%2Fkurs%2F556-C-221-50703%2Ft%2Foeffentlichkeitsarbeit-fuer-vere
 ine" target="_blank" rel="noopener"><span style="text-decoration: underline
 ;"></span></a><span style="text-decoration: underline;"><a href="https://ww
 w.vhs-weil-am-rhein.de/programm/beruf-und-edv.html/kurs/556-C-221-50703/t/o
 effentlichkeitsarbeit-fuer-vereine">https://www.vhs-weil-am-rhein.de/progra
 mm/beruf-und-edv.html/kurs/556-C-221-50703/t/oeffentlichkeitsarbeit-fuer-ve
 reine</a></span><br /><br />Der Besuch des Seminars ist kostenlos<br /><br 
 />Wir freuen uns über Ihre Anmeldung.<br /><br />Freundliche Grüsse<br /><b
 r />***<br />Stadt Weil am Rhein<br />Kulturamt<br />Humboldtstr. 2<br />79
 576 Weil am Rhein<br /><br />Tel. +49 &nbsp;7621 704-412<br />E-Mail: <joom
 la-hidden-mail  is-link="1" is-email="1" first="a3VsdHVyYW10" last="d2VpbC1
 hbS1yaGVpbi5kZQ==" text="a3VsdHVyYW10QHdlaWwtYW0tcmhlaW4uZGU=" base="" >Die
 se E-Mail-Adresse ist vor Spambots geschützt! Zur Anzeige muss JavaScript e
 ingeschaltet sein.</joomla-hidden-mail></p>
CONTACT:Diese E-Mail-Adresse ist vor Spambots geschützt! Zur Anzeige muss JavaScript eingeschaltet sein.
DTSTAMP:20260422T224957
DTSTART;TZID=Europe/Berlin:20220716T100000
DTEND;TZID=Europe/Berlin:20220716T170000
SEQUENCE:0
TRANSP:OPAQUE
END:VEVENT
END:VCALENDAR