BEGIN:VCALENDAR
VERSION:2.0
PRODID:-//jEvents 2.0 for Joomla//EN
CALSCALE:GREGORIAN
METHOD:PUBLISH
BEGIN:VTIMEZONE
TZID:Europe/Berlin
BEGIN:STANDARD
DTSTART:20211031T020000
RDATE:20220327T030000
TZOFFSETFROM:+0200
TZOFFSETTO:+0100
TZNAME:Europe/Berlin CET
END:STANDARD
BEGIN:STANDARD
DTSTART:20221030T020000
RDATE:20230326T030000
TZOFFSETFROM:+0200
TZOFFSETTO:+0100
TZNAME:Europe/Berlin CET
END:STANDARD
BEGIN:STANDARD
DTSTART:20231029T020000
RDATE:20240331T030000
TZOFFSETFROM:+0200
TZOFFSETTO:+0100
TZNAME:Europe/Berlin CET
END:STANDARD
BEGIN:STANDARD
DTSTART:20241027T020000
RDATE:20250330T030000
TZOFFSETFROM:+0200
TZOFFSETTO:+0100
TZNAME:Europe/Berlin CET
END:STANDARD
BEGIN:DAYLIGHT
DTSTART:20210709T000000
RDATE:20211031T020000
TZOFFSETFROM:+0100
TZOFFSETTO:+0200
TZNAME:Europe/Berlin CEST
END:DAYLIGHT
BEGIN:DAYLIGHT
DTSTART:20220327T030000
RDATE:20221030T020000
TZOFFSETFROM:+0100
TZOFFSETTO:+0200
TZNAME:Europe/Berlin CEST
END:DAYLIGHT
BEGIN:DAYLIGHT
DTSTART:20230326T030000
RDATE:20231029T020000
TZOFFSETFROM:+0100
TZOFFSETTO:+0200
TZNAME:Europe/Berlin CEST
END:DAYLIGHT
BEGIN:DAYLIGHT
DTSTART:20240331T030000
RDATE:20241027T020000
TZOFFSETFROM:+0100
TZOFFSETTO:+0200
TZNAME:Europe/Berlin CEST
END:DAYLIGHT
END:VTIMEZONE
BEGIN:VEVENT
UID:32bb8f6f8de69265b284df52d81fcb74
CATEGORIES:Ausstellungen
CREATED:19700101T010000
SUMMARY:Ausstellung "Kunstvoll verwoben. Karola Kauffmann auf Tuchfühlung mit Schwarzenbach & Co."
LOCATION:Weil am Rhein
DESCRIPTION:Am 17.7.2022 haben Besucher:innen zum letzten Mal die Gelegenheit die Ausst
 ellung "Kunstvoll verwoben. Karola Kauffmann auf Tuchfühlung mit Schwarzenb
 ach &amp; Co." zu besichtigen. Geöffnet ist an diesem Sonntag ab 14 Uhr. Ab
  16 Uhr lädt das Museum Weiler Textilgeschichte zu einer öffentlichen Finis
 sage ein, an der auch die Textilkünstlerin Karola Kauffmann anwesend sein w
 ird. Als Rahmenprogramm wird die Choreographin, Tänzerin und Musikpädagogin
  Pilar auftreten. Eine Anmeldung ist nicht erforderlich.\n\nMuseum Weiler T
 extilgeschichte, Am Kesselhaus 23\n79576 Weil am Rhein * Friedlingen\n
X-ALT-DESC;FMTTYPE=text/html:<p>Am 17.7.2022 haben Besucher:innen zum letzten Mal die Gelegenheit die Au
 sstellung "Kunstvoll verwoben. Karola Kauffmann auf Tuchfühlung mit Schwarz
 enbach &amp; Co." zu besichtigen. Geöffnet ist an diesem Sonntag ab 14 Uhr.
  Ab 16 Uhr lädt das Museum Weiler Textilgeschichte zu einer öffentlichen Fi
 nissage ein, an der auch die Textilkünstlerin Karola Kauffmann anwesend sei
 n wird. Als Rahmenprogramm wird die Choreographin, Tänzerin und Musikpädago
 gin Pilar auftreten. Eine Anmeldung ist nicht erforderlich.<br /><br />Muse
 um Weiler Textilgeschichte, Am Kesselhaus 23<br />79576 Weil am Rhein * Fri
 edlingen</p>
CONTACT:+49 7621 70 44 16
DTSTAMP:20260422T224956
DTSTART;TZID=Europe/Berlin;VALUE=DATE:20220710
DTEND;TZID=Europe/Berlin;VALUE=DATE:20220722
SEQUENCE:0
RRULE:FREQ=WEEKLY;UNTIL=20220717T000000Z;INTERVAL=1;BYDAY=SU
TRANSP:OPAQUE
END:VEVENT
END:VCALENDAR