BEGIN:VCALENDAR
VERSION:2.0
PRODID:-//jEvents 2.0 for Joomla//EN
CALSCALE:GREGORIAN
METHOD:PUBLISH
BEGIN:VTIMEZONE
TZID:Europe/Berlin
BEGIN:STANDARD
DTSTART:20211031T020000
RDATE:20220327T030000
TZOFFSETFROM:+0200
TZOFFSETTO:+0100
TZNAME:Europe/Berlin CET
END:STANDARD
BEGIN:STANDARD
DTSTART:20221030T020000
RDATE:20230326T030000
TZOFFSETFROM:+0200
TZOFFSETTO:+0100
TZNAME:Europe/Berlin CET
END:STANDARD
BEGIN:STANDARD
DTSTART:20231029T020000
RDATE:20240331T030000
TZOFFSETFROM:+0200
TZOFFSETTO:+0100
TZNAME:Europe/Berlin CET
END:STANDARD
BEGIN:STANDARD
DTSTART:20241027T020000
RDATE:20250330T030000
TZOFFSETFROM:+0200
TZOFFSETTO:+0100
TZNAME:Europe/Berlin CET
END:STANDARD
BEGIN:DAYLIGHT
DTSTART:20210828T000000
RDATE:20211031T020000
TZOFFSETFROM:+0100
TZOFFSETTO:+0200
TZNAME:Europe/Berlin CEST
END:DAYLIGHT
BEGIN:DAYLIGHT
DTSTART:20220327T030000
RDATE:20221030T020000
TZOFFSETFROM:+0100
TZOFFSETTO:+0200
TZNAME:Europe/Berlin CEST
END:DAYLIGHT
BEGIN:DAYLIGHT
DTSTART:20230326T030000
RDATE:20231029T020000
TZOFFSETFROM:+0100
TZOFFSETTO:+0200
TZNAME:Europe/Berlin CEST
END:DAYLIGHT
BEGIN:DAYLIGHT
DTSTART:20240331T030000
RDATE:20241027T020000
TZOFFSETFROM:+0100
TZOFFSETTO:+0200
TZNAME:Europe/Berlin CEST
END:DAYLIGHT
END:VTIMEZONE
BEGIN:VEVENT
UID:890152477e841b2b4ad647c72820209f
CATEGORIES:Fest
CREATED:20220621T160537
SUMMARY:Cargofest mit dem Eisenbahner Musikverein
LOCATION:Bahnbetriebswerk Weil-Haltingen
DESCRIPTION:Seinen Ursprung hat das Cargofest in der Gründung der Bahn AG im Jahr 1994.
  Damals wurden das BW Haltingen in verschiedene Geschäftsbereiche aufgeteil
 t und die Mitarbeiter den neuen Stellen zugeordnet. Kollegiale Freundschaft
 en zerbrachen, weil jeder fortan bei einem anderen Geschäftsbereich seinen 
 Dienst verrichtete.\nUm weiterhin den Zusammenhalt zu fördern, kam den Urhe
 bern des Festes (Walliser und Greßlin) die Idee, ein Treffen für die ehemal
 igen und jetzigen Aktiven des Bahnbetriebswerks zu veranstalten. Aus der kl
 einen Feier entwickelte sich im Laufe der Jahre ein großes Fest aller Eisen
 bahner, Pensionäre und Angehörigen im Großraum Basel.\n
X-ALT-DESC;FMTTYPE=text/html:<p>Seinen Ursprung hat das Cargofest in der Gründung der Bahn AG im Jahr 19
 94. Damals wurden das BW Haltingen in verschiedene Geschäftsbereiche aufget
 eilt und die Mitarbeiter den neuen Stellen zugeordnet. Kollegiale Freundsch
 aften zerbrachen, weil jeder fortan bei einem anderen Geschäftsbereich sein
 en Dienst verrichtete.</p><p>Um weiterhin den Zusammenhalt zu fördern, kam 
 den Urhebern des Festes (Walliser und Greßlin) die Idee, ein Treffen für di
 e ehemaligen und jetzigen Aktiven des Bahnbetriebswerks zu veranstalten. Au
 s der kleinen Feier entwickelte sich im Laufe der Jahre ein großes Fest all
 er Eisenbahner, Pensionäre und Angehörigen im Großraum Basel.</p>
CONTACT:Diese E-Mail-Adresse ist vor Spambots geschützt! Zur Anzeige muss JavaScript eingeschaltet sein.
DTSTAMP:20260422T164945
DTSTART;TZID=Europe/Berlin;VALUE=DATE:20220829
DTEND;TZID=Europe/Berlin;VALUE=DATE:20220830
SEQUENCE:0
TRANSP:OPAQUE
END:VEVENT
END:VCALENDAR