BEGIN:VCALENDAR
VERSION:2.0
PRODID:-//jEvents 2.0 for Joomla//EN
CALSCALE:GREGORIAN
METHOD:PUBLISH
BEGIN:VTIMEZONE
TZID:Europe/Berlin
BEGIN:STANDARD
DTSTART:20211031T020000
RDATE:20220327T030000
TZOFFSETFROM:+0200
TZOFFSETTO:+0100
TZNAME:Europe/Berlin CET
END:STANDARD
BEGIN:STANDARD
DTSTART:20221030T020000
RDATE:20230326T030000
TZOFFSETFROM:+0200
TZOFFSETTO:+0100
TZNAME:Europe/Berlin CET
END:STANDARD
BEGIN:STANDARD
DTSTART:20231029T020000
RDATE:20240331T030000
TZOFFSETFROM:+0200
TZOFFSETTO:+0100
TZNAME:Europe/Berlin CET
END:STANDARD
BEGIN:STANDARD
DTSTART:20241027T020000
RDATE:20250330T030000
TZOFFSETFROM:+0200
TZOFFSETTO:+0100
TZNAME:Europe/Berlin CET
END:STANDARD
BEGIN:DAYLIGHT
DTSTART:20210722T000000
RDATE:20211031T020000
TZOFFSETFROM:+0100
TZOFFSETTO:+0200
TZNAME:Europe/Berlin CEST
END:DAYLIGHT
BEGIN:DAYLIGHT
DTSTART:20220327T030000
RDATE:20221030T020000
TZOFFSETFROM:+0100
TZOFFSETTO:+0200
TZNAME:Europe/Berlin CEST
END:DAYLIGHT
BEGIN:DAYLIGHT
DTSTART:20230326T030000
RDATE:20231029T020000
TZOFFSETFROM:+0100
TZOFFSETTO:+0200
TZNAME:Europe/Berlin CEST
END:DAYLIGHT
BEGIN:DAYLIGHT
DTSTART:20240331T030000
RDATE:20241027T020000
TZOFFSETFROM:+0100
TZOFFSETTO:+0200
TZNAME:Europe/Berlin CEST
END:DAYLIGHT
END:VTIMEZONE
BEGIN:VEVENT
UID:0cc960ccc781e21f066ea65347d654a0
CATEGORIES:Konzerte
CREATED:20220610T130614
SUMMARY:Ehrungsfeier des TV Weil
LOCATION:Weil am Rhein
DESCRIPTION:Am 23. Juli dürfen wir beim TV-Weil bei der Ehrung ihrer Mitglieder spielen
 . Damit sind wir wieder zu Gast beim TV-Weil, nachdem die Neujahrsempfänge 
 ja 2 x ausgefallen sind.\n
X-ALT-DESC;FMTTYPE=text/html:<p>Am 23. Juli dürfen wir beim TV-Weil bei der Ehrung ihrer Mitglieder spie
 len. Damit sind wir wieder zu Gast beim TV-Weil, nachdem die Neujahrsempfän
 ge ja 2 x ausgefallen sind.</p>
CONTACT:http://www.mandoline-weil.de/
DTSTAMP:20260422T205729
DTSTART;TZID=Europe/Berlin;VALUE=DATE:20220723
DTEND;TZID=Europe/Berlin;VALUE=DATE:20220724
SEQUENCE:0
TRANSP:OPAQUE
END:VEVENT
END:VCALENDAR