BEGIN:VCALENDAR
VERSION:2.0
PRODID:-//jEvents 2.0 for Joomla//EN
CALSCALE:GREGORIAN
METHOD:PUBLISH
BEGIN:VTIMEZONE
TZID:Europe/Berlin
BEGIN:STANDARD
DTSTART:20211031T020000
RDATE:20220327T030000
TZOFFSETFROM:+0200
TZOFFSETTO:+0100
TZNAME:Europe/Berlin CET
END:STANDARD
BEGIN:STANDARD
DTSTART:20221030T020000
RDATE:20230326T030000
TZOFFSETFROM:+0200
TZOFFSETTO:+0100
TZNAME:Europe/Berlin CET
END:STANDARD
BEGIN:STANDARD
DTSTART:20231029T020000
RDATE:20240331T030000
TZOFFSETFROM:+0200
TZOFFSETTO:+0100
TZNAME:Europe/Berlin CET
END:STANDARD
BEGIN:STANDARD
DTSTART:20241027T020000
RDATE:20250330T030000
TZOFFSETFROM:+0200
TZOFFSETTO:+0100
TZNAME:Europe/Berlin CET
END:STANDARD
BEGIN:DAYLIGHT
DTSTART:20210701T000000
RDATE:20211031T020000
TZOFFSETFROM:+0100
TZOFFSETTO:+0200
TZNAME:Europe/Berlin CEST
END:DAYLIGHT
BEGIN:DAYLIGHT
DTSTART:20220327T030000
RDATE:20221030T020000
TZOFFSETFROM:+0100
TZOFFSETTO:+0200
TZNAME:Europe/Berlin CEST
END:DAYLIGHT
BEGIN:DAYLIGHT
DTSTART:20230326T030000
RDATE:20231029T020000
TZOFFSETFROM:+0100
TZOFFSETTO:+0200
TZNAME:Europe/Berlin CEST
END:DAYLIGHT
BEGIN:DAYLIGHT
DTSTART:20240331T030000
RDATE:20241027T020000
TZOFFSETFROM:+0100
TZOFFSETTO:+0200
TZNAME:Europe/Berlin CEST
END:DAYLIGHT
END:VTIMEZONE
BEGIN:VEVENT
UID:340ac0bbe2c91ccc772117bb8da86d99
CATEGORIES:Fest
CREATED:20220610T125650
SUMMARY:Musikschulfest der Musikschule Weil am Rhein
LOCATION:Altes Rathaus\, Weil am Rhein
DESCRIPTION:Neuland für uns ist dann das Musikschulfest, das die Musikschule Weil am Rh
 ein am 02. Juli veranstaltet und an dem wir zum ersten Mal seit Jahrzehnten
  wieder gemeinsam mit jungen Menschen auf der Bühne sitzen werden.\n
X-ALT-DESC;FMTTYPE=text/html:<p>Neuland für uns ist dann das Musikschulfest, das die Musikschule Weil am
  Rhein am 02. Juli veranstaltet und an dem wir zum ersten Mal seit Jahrzehn
 ten wieder gemeinsam mit jungen Menschen auf der Bühne sitzen werden.</p>
CONTACT:http://www.mandoline-weil.de/
DTSTAMP:20260422T204826
DTSTART;TZID=Europe/Berlin;VALUE=DATE:20220702
DTEND;TZID=Europe/Berlin;VALUE=DATE:20220703
SEQUENCE:0
TRANSP:OPAQUE
END:VEVENT
END:VCALENDAR