BEGIN:VCALENDAR
VERSION:2.0
PRODID:-//jEvents 2.0 for Joomla//EN
CALSCALE:GREGORIAN
METHOD:PUBLISH
BEGIN:VTIMEZONE
TZID:Europe/Berlin
BEGIN:STANDARD
DTSTART:20211031T020000
RDATE:20220327T030000
TZOFFSETFROM:+0200
TZOFFSETTO:+0100
TZNAME:Europe/Berlin CET
END:STANDARD
BEGIN:STANDARD
DTSTART:20221030T020000
RDATE:20230326T030000
TZOFFSETFROM:+0200
TZOFFSETTO:+0100
TZNAME:Europe/Berlin CET
END:STANDARD
BEGIN:STANDARD
DTSTART:20231029T020000
RDATE:20240331T030000
TZOFFSETFROM:+0200
TZOFFSETTO:+0100
TZNAME:Europe/Berlin CET
END:STANDARD
BEGIN:STANDARD
DTSTART:20241027T020000
RDATE:20250330T030000
TZOFFSETFROM:+0200
TZOFFSETTO:+0100
TZNAME:Europe/Berlin CET
END:STANDARD
BEGIN:DAYLIGHT
DTSTART:20210625T000000
RDATE:20211031T020000
TZOFFSETFROM:+0100
TZOFFSETTO:+0200
TZNAME:Europe/Berlin CEST
END:DAYLIGHT
BEGIN:DAYLIGHT
DTSTART:20220327T030000
RDATE:20221030T020000
TZOFFSETFROM:+0100
TZOFFSETTO:+0200
TZNAME:Europe/Berlin CEST
END:DAYLIGHT
BEGIN:DAYLIGHT
DTSTART:20230326T030000
RDATE:20231029T020000
TZOFFSETFROM:+0100
TZOFFSETTO:+0200
TZNAME:Europe/Berlin CEST
END:DAYLIGHT
BEGIN:DAYLIGHT
DTSTART:20240331T030000
RDATE:20241027T020000
TZOFFSETFROM:+0100
TZOFFSETTO:+0200
TZNAME:Europe/Berlin CEST
END:DAYLIGHT
END:VTIMEZONE
BEGIN:VEVENT
UID:6d24fb51f4f74125b68b4d7d7e5d9b7c
CATEGORIES:Konzerte
CREATED:20220610T125425
SUMMARY:Landesmusikfestival in Mannheim
LOCATION:Mannheim
DESCRIPTION:Den ersten öffentlichen Auftritt werden wir gleich nach den Pfingstferien a
 m 26. Juni haben, wenn wir mit unserem Orchester an dem Landesmusikfest in 
 Mannheim teilnehmen. Mit 7 Stücken dürfen wir am Sonntag Vormittag vor hoff
 entlich vielen Kennern der Mandolinenmusik spielen. Für ein gutes Gelingen 
 dürft Ihr uns die Daumen drücken.\nAm Nachmittag bekommen wir dann noch ein
  Konzert des Badischen Zupforchesters zu hören, an dem auch der weltweit be
 kannte Mandolinensolist Avi Avital mitwirken wird.\n
X-ALT-DESC;FMTTYPE=text/html:<p>Den ersten öffentlichen Auftritt werden wir gleich nach den Pfingstferie
 n am 26. Juni haben, wenn wir mit unserem Orchester an dem Landesmusikfest 
 in Mannheim teilnehmen. Mit 7 Stücken dürfen wir am Sonntag Vormittag vor h
 offentlich vielen Kennern der Mandolinenmusik spielen. Für ein gutes Geling
 en dürft Ihr uns die Daumen drücken.</p><p>Am Nachmittag bekommen wir dann 
 noch ein Konzert des Badischen Zupforchesters zu hören, an dem auch der wel
 tweit bekannte Mandolinensolist Avi Avital mitwirken wird.</p>
CONTACT:http://www.mandoline-weil.de/
DTSTAMP:20260423T044255
DTSTART;TZID=Europe/Berlin;VALUE=DATE:20220626
DTEND;TZID=Europe/Berlin;VALUE=DATE:20220627
SEQUENCE:0
TRANSP:OPAQUE
END:VEVENT
END:VCALENDAR