BEGIN:VCALENDAR
VERSION:2.0
PRODID:-//jEvents 2.0 for Joomla//EN
CALSCALE:GREGORIAN
METHOD:PUBLISH
BEGIN:VTIMEZONE
TZID:Europe/Berlin
BEGIN:STANDARD
DTSTART:20211031T020000
RDATE:20220327T030000
TZOFFSETFROM:+0200
TZOFFSETTO:+0100
TZNAME:Europe/Berlin CET
END:STANDARD
BEGIN:STANDARD
DTSTART:20221030T020000
RDATE:20230326T030000
TZOFFSETFROM:+0200
TZOFFSETTO:+0100
TZNAME:Europe/Berlin CET
END:STANDARD
BEGIN:STANDARD
DTSTART:20231029T020000
RDATE:20240331T030000
TZOFFSETFROM:+0200
TZOFFSETTO:+0100
TZNAME:Europe/Berlin CET
END:STANDARD
BEGIN:STANDARD
DTSTART:20241027T020000
RDATE:20250330T030000
TZOFFSETFROM:+0200
TZOFFSETTO:+0100
TZNAME:Europe/Berlin CET
END:STANDARD
BEGIN:DAYLIGHT
DTSTART:20210909T100000
RDATE:20211031T020000
TZOFFSETFROM:+0100
TZOFFSETTO:+0200
TZNAME:Europe/Berlin CEST
END:DAYLIGHT
BEGIN:DAYLIGHT
DTSTART:20220327T030000
RDATE:20221030T020000
TZOFFSETFROM:+0100
TZOFFSETTO:+0200
TZNAME:Europe/Berlin CEST
END:DAYLIGHT
BEGIN:DAYLIGHT
DTSTART:20230326T030000
RDATE:20231029T020000
TZOFFSETFROM:+0100
TZOFFSETTO:+0200
TZNAME:Europe/Berlin CEST
END:DAYLIGHT
BEGIN:DAYLIGHT
DTSTART:20240331T030000
RDATE:20241027T020000
TZOFFSETFROM:+0100
TZOFFSETTO:+0200
TZNAME:Europe/Berlin CEST
END:DAYLIGHT
END:VTIMEZONE
BEGIN:VEVENT
UID:0dce5d02361d788c00cc7db0f29b7f55
CATEGORIES:Ausflüge und Exkursionen
CREATED:20220607T085451
SUMMARY:Ausflug nach Efringen-Kirchen mit dem Verein für Heimatgeschichte und Volkskunde
LOCATION:Efringen-Kirchen
DESCRIPTION:Am Samstag, den 10. September treffen wir uns mit elsässischen Geschichtsfr
 eunden \nvon der Société d’Histoire de Bartenheim et Environs in Efringen-K
 irchen zu einer \ngemeinsamen Veranstaltung über die Geschichte der Rheinma
 rken. Beginn 10:00 Uhr im \nWeingut Kaufmann in Kirchen. Nach einem einführ
 enden Kurzvortrag von unserem \nVereinsmitglied Otto Imgrund und folgt eine
  ca. 1,5 – 2-stündige einfache Wanderung. \nAnschließend. gibt es bei einer
  Weinprobe mit Kellerrundgang und acht verschiedenen \nWeinsorten sowie Win
 zervesper ausreichend Gelegenheit für Austausch und Geselligkeit. \nAnreise
  in eigener Regie, z.B. mit der Bahn um 9:22 Uhr ab Weil HBf, 9:25 ab Halti
 ngen, \n9:27 ab Eimeldingen \nEnde ca. 16.00 Uhr. Kosten 28,- €/Pers.\nVerb
 indliche Anmeldung bis spätestens 06.09.22: \nDiese E-Mail-Adresse ist vor 
 Spambots geschützt! Zur Anzeige muss JavaScript eingeschaltet sein. oder Te
 l 07621 792349 (Siemann)\n
X-ALT-DESC;FMTTYPE=text/html:<p>Am Samstag, den 10. September treffen wir uns mit elsässischen Geschicht
 sfreunden <br />von der Société d’Histoire de Bartenheim et Environs in Efr
 ingen-Kirchen zu einer <br />gemeinsamen Veranstaltung über die Geschichte 
 der Rheinmarken. Beginn 10:00 Uhr im <br />Weingut Kaufmann in Kirchen. Nac
 h einem einführenden Kurzvortrag von unserem <br />Vereinsmitglied Otto Img
 rund und folgt eine ca. 1,5 – 2-stündige einfache Wanderung. <br />Anschlie
 ßend. gibt es bei einer Weinprobe mit Kellerrundgang und acht verschiedenen
  <br />Weinsorten sowie Winzervesper ausreichend Gelegenheit für Austausch 
 und Geselligkeit. <br />Anreise in eigener Regie, z.B. mit der Bahn um 9:22
  Uhr ab Weil HBf, 9:25 ab Haltingen, <br />9:27 ab Eimeldingen <br />Ende c
 a. 16.00 Uhr. Kosten 28,- €/Pers.<br />Verbindliche Anmeldung bis spätesten
 s 06.09.22: <br /><joomla-hidden-mail  is-link="1" is-email="1" first="aGVp
 bWF0Z2VzY2hpY2h0ZS53ZWlsLmFtLnJoZWlu" last="Z21haWwuY29t" text="aGVpbWF0Z2V
 zY2hpY2h0ZS53ZWlsLmFtLnJoZWluQGdtYWlsLmNvbQ==" base="" >Diese E-Mail-Adress
 e ist vor Spambots geschützt! Zur Anzeige muss JavaScript eingeschaltet sei
 n.</joomla-hidden-mail> oder Tel 07621 792349 (Siemann)</p>
CONTACT:Diese E-Mail-Adresse ist vor Spambots geschützt! Zur Anzeige muss JavaScript eingeschaltet sein.
DTSTAMP:20260422T202653
DTSTART;TZID=Europe/Berlin:20220910T100000
DTEND;TZID=Europe/Berlin:20220910T160000
SEQUENCE:0
TRANSP:OPAQUE
END:VEVENT
END:VCALENDAR