BEGIN:VCALENDAR
VERSION:2.0
PRODID:-//jEvents 2.0 for Joomla//EN
CALSCALE:GREGORIAN
METHOD:PUBLISH
BEGIN:VTIMEZONE
TZID:Europe/Berlin
BEGIN:STANDARD
DTSTART:20211031T020000
RDATE:20220327T030000
TZOFFSETFROM:+0200
TZOFFSETTO:+0100
TZNAME:Europe/Berlin CET
END:STANDARD
BEGIN:STANDARD
DTSTART:20221030T020000
RDATE:20230326T030000
TZOFFSETFROM:+0200
TZOFFSETTO:+0100
TZNAME:Europe/Berlin CET
END:STANDARD
BEGIN:STANDARD
DTSTART:20231029T020000
RDATE:20240331T030000
TZOFFSETFROM:+0200
TZOFFSETTO:+0100
TZNAME:Europe/Berlin CET
END:STANDARD
BEGIN:STANDARD
DTSTART:20241027T020000
RDATE:20250330T030000
TZOFFSETFROM:+0200
TZOFFSETTO:+0100
TZNAME:Europe/Berlin CET
END:STANDARD
BEGIN:DAYLIGHT
DTSTART:20210801T073000
RDATE:20211031T020000
TZOFFSETFROM:+0100
TZOFFSETTO:+0200
TZNAME:Europe/Berlin CEST
END:DAYLIGHT
BEGIN:DAYLIGHT
DTSTART:20220327T030000
RDATE:20221030T020000
TZOFFSETFROM:+0100
TZOFFSETTO:+0200
TZNAME:Europe/Berlin CEST
END:DAYLIGHT
BEGIN:DAYLIGHT
DTSTART:20230326T030000
RDATE:20231029T020000
TZOFFSETFROM:+0100
TZOFFSETTO:+0200
TZNAME:Europe/Berlin CEST
END:DAYLIGHT
BEGIN:DAYLIGHT
DTSTART:20240331T030000
RDATE:20241027T020000
TZOFFSETFROM:+0100
TZOFFSETTO:+0200
TZNAME:Europe/Berlin CEST
END:DAYLIGHT
END:VTIMEZONE
BEGIN:VEVENT
UID:f30b94ef5b4390ea29f5b965fa279a50
CATEGORIES:Ausflüge und Exkursionen
CREATED:20220607T084833
SUMMARY:Ausflug Richtung Bodensee
LOCATION:Raum Bodensee
DESCRIPTION:Am Dienstag, den 2. August machen wir uns auf Richtung Bodensee und seiner 
 etwas \nunbekannten anderen Geschichte. Wir besuchen zunächst Gailingen am 
 Hochrhein und \ndas dortige jüdische Museum. Anschließend Weiterfahrt nach 
 Konstanz. Im \nRosgartenmuseum wird uns unser Vereinsmitglied und Kuratorin
  Dr. Lisa Foege durch die \nneue Ausstellung Konstanz im Nationalsozialismu
 s 1933 – 1945 führen. Danach \nMittagspause im idyllischen Innenhof des Mus
 eumscafés. Am Nachmittag steht die \nBesichtigung des Goldbacher Stollens i
 n Überlingen auf dem Programm. Diese \naußergewöhnliche Gedenkstätte, eine 
 von KZ-Häftlingen errichtete unterirdische \nRüstungsfabrik, ist nur im Rah
 men von Führungen zugänglich. Dafür ist warme Kleidung \nund festes Schuhwe
 rk erforderlich, die Temperatur liegt ganzjährig bei nur 12 Grad!\nAbfahrt 
 mit Bus der Fa. Heizmann um 7.30 Uhr Sparda Bank und 07:35 Uhr Läublinpark,
  \nRückkehr gegen 20.00 Uhr. Kosten für Fahrt, Eintritte und Führungen 60,-
 €; Gäste sind \nwillkommen und zahlen 70,-€.\nAnmeldung. Diese E-Mail-Adres
 se ist vor Spambots geschützt! Zur Anzeige muss JavaScript eingeschaltet se
 in. oder Tel. 07621 1698440 (Kühl)\n
X-ALT-DESC;FMTTYPE=text/html:<p>Am Dienstag, den 2. August machen wir uns auf Richtung Bodensee und sein
 er etwas <br />unbekannten anderen Geschichte. Wir besuchen zunächst Gailin
 gen am Hochrhein und <br />das dortige jüdische Museum. Anschließend Weiter
 fahrt nach Konstanz. Im <br />Rosgartenmuseum wird uns unser Vereinsmitglie
 d und Kuratorin Dr. Lisa Foege durch die <br />neue Ausstellung Konstanz im
  Nationalsozialismus 1933 – 1945 führen. Danach <br />Mittagspause im idyll
 ischen Innenhof des Museumscafés. Am Nachmittag steht die <br />Besichtigun
 g des Goldbacher Stollens in Überlingen auf dem Programm. Diese <br />außer
 gewöhnliche Gedenkstätte, eine von KZ-Häftlingen errichtete unterirdische <
 br />Rüstungsfabrik, ist nur im Rahmen von Führungen zugänglich. Dafür ist 
 warme Kleidung <br />und festes Schuhwerk erforderlich, die Temperatur lieg
 t ganzjährig bei nur 12 Grad!<br />Abfahrt mit Bus der Fa. Heizmann um 7.30
  Uhr Sparda Bank und 07:35 Uhr Läublinpark, <br />Rückkehr gegen 20.00 Uhr.
  Kosten für Fahrt, Eintritte und Führungen 60,-€; Gäste sind <br />willkomm
 en und zahlen 70,-€.<br />Anmeldung. <joomla-hidden-mail  is-link="1" is-em
 ail="1" first="aGVpbWF0Z2VzY2hpY2h0ZS53ZWlsLmFtLnJoZWlu" last="Z21haWwuY29t
 " text="aGVpbWF0Z2VzY2hpY2h0ZS53ZWlsLmFtLnJoZWluQGdtYWlsLmNvbQ==" base="" >
 Diese E-Mail-Adresse ist vor Spambots geschützt! Zur Anzeige muss JavaScrip
 t eingeschaltet sein.</joomla-hidden-mail> oder Tel. 07621 1698440 (Kühl)</
 p>
CONTACT:http://www.heimatgeschichte-weil-am-rhein.de/
DTSTAMP:20260422T154428
DTSTART;TZID=Europe/Berlin:20220802T073000
SEQUENCE:0
TRANSP:OPAQUE
END:VEVENT
END:VCALENDAR