BEGIN:VCALENDAR
VERSION:2.0
PRODID:-//jEvents 2.0 for Joomla//EN
CALSCALE:GREGORIAN
METHOD:PUBLISH
BEGIN:VTIMEZONE
TZID:Europe/Berlin
BEGIN:STANDARD
DTSTART:20211031T020000
RDATE:20220327T030000
TZOFFSETFROM:+0200
TZOFFSETTO:+0100
TZNAME:Europe/Berlin CET
END:STANDARD
BEGIN:STANDARD
DTSTART:20221030T020000
RDATE:20230326T030000
TZOFFSETFROM:+0200
TZOFFSETTO:+0100
TZNAME:Europe/Berlin CET
END:STANDARD
BEGIN:STANDARD
DTSTART:20231029T020000
RDATE:20240331T030000
TZOFFSETFROM:+0200
TZOFFSETTO:+0100
TZNAME:Europe/Berlin CET
END:STANDARD
BEGIN:STANDARD
DTSTART:20241027T020000
RDATE:20250330T030000
TZOFFSETFROM:+0200
TZOFFSETTO:+0100
TZNAME:Europe/Berlin CET
END:STANDARD
BEGIN:DAYLIGHT
DTSTART:20210629T193000
RDATE:20211031T020000
TZOFFSETFROM:+0100
TZOFFSETTO:+0200
TZNAME:Europe/Berlin CEST
END:DAYLIGHT
BEGIN:DAYLIGHT
DTSTART:20220327T030000
RDATE:20221030T020000
TZOFFSETFROM:+0100
TZOFFSETTO:+0200
TZNAME:Europe/Berlin CEST
END:DAYLIGHT
BEGIN:DAYLIGHT
DTSTART:20230326T030000
RDATE:20231029T020000
TZOFFSETFROM:+0100
TZOFFSETTO:+0200
TZNAME:Europe/Berlin CEST
END:DAYLIGHT
BEGIN:DAYLIGHT
DTSTART:20240331T030000
RDATE:20241027T020000
TZOFFSETFROM:+0100
TZOFFSETTO:+0200
TZNAME:Europe/Berlin CEST
END:DAYLIGHT
END:VTIMEZONE
BEGIN:VEVENT
UID:642e48e36098092b953bba760175492b
CATEGORIES:Vorträge
CREATED:20220607T083039
SUMMARY:Vortrag: "Gesunde Gemeindepolitik" in Zeiten der NS-Diktatur?
LOCATION:Weil am Rhein
DESCRIPTION:Am Donnerstag, den 30. Juni, 19.30 Uhr im Haus der Volksbildung, gr. Saal\n
 Vortrag von Dr. Robert Neisen: "Gesunde Gemeindepolitik" in Zeiten der NS-D
 iktatur?\nWas eine Aufarbeitung der lokalen NS-Geschichte leisten sollte un
 d kann.\nDer Freiburger Historiker kann als einer der besten Kenner der lok
 alen NS-Geschichte in \nSüdbaden gelten und war bereits 2013 bei uns zu Gas
 t. Mit dieser Veranstaltung wollen \nwir die im Gemeinderat beantragte Aufa
 rbeitung der Weiler NS-Geschichte begleiten.\n
X-ALT-DESC;FMTTYPE=text/html:<p>Am Donnerstag, den 30. Juni, 19.30 Uhr im Haus der Volksbildung, gr. Saa
 l<br />Vortrag von Dr. Robert Neisen: "Gesunde Gemeindepolitik" in Zeiten d
 er NS-Diktatur?<br />Was eine Aufarbeitung der lokalen NS-Geschichte leiste
 n sollte und kann.<br />Der Freiburger Historiker kann als einer der besten
  Kenner der lokalen NS-Geschichte in <br />Südbaden gelten und war bereits 
 2013 bei uns zu Gast. Mit dieser Veranstaltung wollen <br />wir die im Geme
 inderat beantragte Aufarbeitung der Weiler NS-Geschichte begleiten.</p>
CONTACT:http://www.heimatgeschichte-weil-am-rhein.de/
DTSTAMP:20260423T005214
DTSTART;TZID=Europe/Berlin:20220630T193000
SEQUENCE:0
TRANSP:OPAQUE
END:VEVENT
END:VCALENDAR