BEGIN:VCALENDAR
VERSION:2.0
PRODID:-//jEvents 2.0 for Joomla//EN
CALSCALE:GREGORIAN
METHOD:PUBLISH
BEGIN:VTIMEZONE
TZID:Europe/Berlin
BEGIN:STANDARD
DTSTART:20211031T020000
RDATE:20220327T030000
TZOFFSETFROM:+0200
TZOFFSETTO:+0100
TZNAME:Europe/Berlin CET
END:STANDARD
BEGIN:STANDARD
DTSTART:20221030T020000
RDATE:20230326T030000
TZOFFSETFROM:+0200
TZOFFSETTO:+0100
TZNAME:Europe/Berlin CET
END:STANDARD
BEGIN:STANDARD
DTSTART:20231029T020000
RDATE:20240331T030000
TZOFFSETFROM:+0200
TZOFFSETTO:+0100
TZNAME:Europe/Berlin CET
END:STANDARD
BEGIN:STANDARD
DTSTART:20241027T020000
RDATE:20250330T030000
TZOFFSETFROM:+0200
TZOFFSETTO:+0100
TZNAME:Europe/Berlin CET
END:STANDARD
BEGIN:DAYLIGHT
DTSTART:20210617T170000
RDATE:20211031T020000
TZOFFSETFROM:+0100
TZOFFSETTO:+0200
TZNAME:Europe/Berlin CEST
END:DAYLIGHT
BEGIN:DAYLIGHT
DTSTART:20220327T030000
RDATE:20221030T020000
TZOFFSETFROM:+0100
TZOFFSETTO:+0200
TZNAME:Europe/Berlin CEST
END:DAYLIGHT
BEGIN:DAYLIGHT
DTSTART:20230326T030000
RDATE:20231029T020000
TZOFFSETFROM:+0100
TZOFFSETTO:+0200
TZNAME:Europe/Berlin CEST
END:DAYLIGHT
BEGIN:DAYLIGHT
DTSTART:20240331T030000
RDATE:20241027T020000
TZOFFSETFROM:+0100
TZOFFSETTO:+0200
TZNAME:Europe/Berlin CEST
END:DAYLIGHT
END:VTIMEZONE
BEGIN:VEVENT
UID:ed30a5f9c6d42d40c2da2cff333cb8f1
CATEGORIES:Fest
CREATED:20220603T093337
SUMMARY:Trachtentreffen Festakt
DESCRIPTION:Beim länderübergreifenden Festumzug nehmen zahlreiche Trachtenträger,\nMusi
 kkapellen, Pferde, Vereine zur Brauchtumspflege und historische\nFahrzeuge 
 teil.Schweiz\n\n• Kantonaler Trachtenverband Basel\n• Narrebainli 1973 (Tam
 bouren und Pfeiffer)\n• Kantonaler Trachtenverband Zug Alphörner und Tryche
 lnFrankreich\n\n• Les Cigognes de Strasbourg\n• Du Pays de hanau de Bouxwil
 ler\n• Sundgauvia\n• Fédération des Groupes Folklorique d´AlsaceDeutschland
 \n\n• Hist. Bürgerwehren Haslach &amp; Ettlingen 1715 e.V.\n• Villingen Tra
 chtengruppe, Spielmannszug, Bürgerwehr &amp; Kavallerie\n• Stadtmusik Weil 
 am Rhein / Spielmannszug Weil am Rhein\n• Wiler Buurefasnacht\n• Markgräfl 
 er Trachtengruppen aus Eichstetten / Hügelheim / Kandern\n• Trachtengruppen
  aus dem Landkreis Lörrach; Münstertal; Alt-Radolfszell;\n• Frohsinn Donaue
 schingen; Hondringen/Riedöschingen\n• Historischer Verein Hornberg e.V. / H
 eimatverein March uvm.\n\nDie Schwarzwald Drag-Queen Betty BBQ steht als Ju
 biläumsbotschafterin neben der Stadt Freiburg für eine\nvielfältige (Tracht
 en)Gesellschaft
X-ALT-DESC;FMTTYPE=text/html:<h4><span class="fontstyle0">Beim länderübergreifenden Festumzug nehmen zah
 lreiche Trachtenträger,<br />Musikkapellen, Pferde, Vereine zur Brauchtumsp
 flege und historische<br />Fahrzeuge teil.</span></h4><h5><span class="font
 style0">Schweiz<br /><br /></span><span class="fontstyle1">• Kantonaler Tra
 chtenverband Basel<br />• Narrebainli 1973&nbsp;(Tambouren und Pfeiffer)<br
  />• Kantonaler Trachtenverband Zug Alphörner und Trycheln</span></h5><h5><
 span class="fontstyle0">Frankreich<br /><br /></span><span class="fontstyle
 1">• Les Cigognes de Strasbourg<br />• Du Pays de hanau de Bouxwiller<br />
 • Sundgauvia<br />• Fédération des Groupes Folklorique d´Alsace</span></h5>
 <h5><span class="fontstyle0">Deutschland<br /><br /></span><span class="fon
 tstyle1">• Hist. Bürgerwehren Haslach &amp; Ettlingen 1715 e.V.<br />• Vill
 ingen Trachtengruppe, Spielmannszug, Bürgerwehr &amp; Kavallerie<br />• Sta
 dtmusik Weil am Rhein / Spielmannszug Weil am Rhein<br />• Wiler Buurefasna
 cht<br />• Markgräfl er Trachtengruppen aus Eichstetten / Hügelheim / Kande
 rn<br />• Trachtengruppen aus dem&nbsp;</span><span class="fontstyle1">Land
 kreis Lörrach; Münstertal; Alt-Radolfszell;<br />• Frohsinn Donaueschingen;
  Hondringen/Riedöschingen<br />• Historischer Verein Hornberg e.V. /&nbsp;H
 eimatverein March uvm.<br /><br />Die Schwarzwald Drag-Queen Betty BBQ steh
 t als Jubiläumsbotschafterin neben der Stadt Freiburg für eine<br />vielfäl
 tige (Trachten)Gesellschaft</span></h5>
DTSTAMP:20260423T025045
DTSTART;TZID=Europe/Berlin:20220618T170000
SEQUENCE:0
TRANSP:OPAQUE
END:VEVENT
END:VCALENDAR