BEGIN:VCALENDAR
VERSION:2.0
PRODID:-//jEvents 2.0 for Joomla//EN
CALSCALE:GREGORIAN
METHOD:PUBLISH
BEGIN:VTIMEZONE
TZID:Europe/Berlin
BEGIN:STANDARD
DTSTART:20211031T020000
RDATE:20220327T030000
TZOFFSETFROM:+0200
TZOFFSETTO:+0100
TZNAME:Europe/Berlin CET
END:STANDARD
BEGIN:STANDARD
DTSTART:20221030T020000
RDATE:20230326T030000
TZOFFSETFROM:+0200
TZOFFSETTO:+0100
TZNAME:Europe/Berlin CET
END:STANDARD
BEGIN:STANDARD
DTSTART:20231029T020000
RDATE:20240331T030000
TZOFFSETFROM:+0200
TZOFFSETTO:+0100
TZNAME:Europe/Berlin CET
END:STANDARD
BEGIN:STANDARD
DTSTART:20241027T020000
RDATE:20250330T030000
TZOFFSETFROM:+0200
TZOFFSETTO:+0100
TZNAME:Europe/Berlin CET
END:STANDARD
BEGIN:DAYLIGHT
DTSTART:20210929T200000
RDATE:20211031T020000
TZOFFSETFROM:+0100
TZOFFSETTO:+0200
TZNAME:Europe/Berlin CEST
END:DAYLIGHT
BEGIN:DAYLIGHT
DTSTART:20220327T030000
RDATE:20221030T020000
TZOFFSETFROM:+0100
TZOFFSETTO:+0200
TZNAME:Europe/Berlin CEST
END:DAYLIGHT
BEGIN:DAYLIGHT
DTSTART:20230326T030000
RDATE:20231029T020000
TZOFFSETFROM:+0100
TZOFFSETTO:+0200
TZNAME:Europe/Berlin CEST
END:DAYLIGHT
BEGIN:DAYLIGHT
DTSTART:20240331T030000
RDATE:20241027T020000
TZOFFSETFROM:+0100
TZOFFSETTO:+0200
TZNAME:Europe/Berlin CEST
END:DAYLIGHT
END:VTIMEZONE
BEGIN:VEVENT
UID:2db6c3c02224f849360692c185051920
CATEGORIES:Konzerte
CREATED:20220912T092740
SUMMARY:Weiler Bluesnächte mit Blueslegende Zed Mitchell
DESCRIPTION:Die Weiler Bluesnächte sind zurück\nBlueslegende Zed Mitchell Ende Septembe
 r im Gewölbekeller des Alten Rathauses\n\nWeil am Rhein. Im Januar 2020 fan
 d die letzte Weiler Bluesnacht statt, bevor die Corona-Pandemie alle weiter
 en Planungen abrupt durchkreuzte. Seit Ende vergangenen Jahres laufen jedoc
 h die Vorbereitungen für die Wiederaufnahme dieser beliebten Veranstaltungs
 reihe, in deren Rahmen schon viele Stars der Blueszene in der 3-Länder-Stad
 t aufgetreten sind.\n\nMit Zed Mitchell konnte das Kulturamt, welches die R
 eihe zusammen mit dem „Jazz und Blues Südbaden - exbluesive e. V." organisi
 ert, nun einen der führenden Blues-Gitarristen Europas für einen Auftritt i
 m Gewölbekeller des Alten Rathauses in der Hinterdorfstraße verpflichten. E
 r steht dort am 30. September zusammen mit seinem Sohn Todor, dem Bassisten
  Philipp Schäfer und dem Drummer Konrad Matheus auf der Bühne.\n\nIm Gepäck
  haben die Musiker ihr aktuelles Album „Route 69“. Angelehnt an die legendä
 re Route 66, fährt Zed Mitchell mit diesem Album die musikalischen Statione
 n\nseines Lebens ab. Die Songs, die er mit seiner außergewöhnlichen 5-Oktav
 en umfassenden Stimme vorträgt, erzählen seine Lebensgeschichte. Produziert
  wurde das Album in Studios in Berlin und Essen. Für das Songwriting und di
 e Produktion zeichnet Mitchell selbst verantwortlich.\n\nDie neuen Tracks s
 ind mal ruhig, dann ruppig und wieder sanft. Mitchell präsentiert sein bish
 er persönlichstes Album, das ans Herz und in die Beine geht.\n\nDie Weiler 
 Bluesnächte haben eine lange Tradition. Ursprünglich holte das Kulturamt de
 r 3-Länder-Stadt 25 Jahre lang gemeinsam mit dem Jazz-Experten Dieter Bruno
 w aus Haltingen internationale Top-Stars der Jazz-Szene in den Gewölbekelle
 r des Alten Rathauses nach Altweil.\nSpäter konnte die Gruppe „Exbluesive“ 
 um den Blues-Experten Klaus Deuss als Partner für diese gefragte Musikreihe
  gewonnen werden. Nach seinem Tod im Jahr 2020 und einer pandemiebedingten 
 Pause setzt das Kulturamt die Reihe nun mit dem „Jazz und Blues Südbaden - 
 exbluesive e. V." fort. Der Verein besteht aus bluesbegeisterten Musikliebh
 abern aus dem südbadischen Raum und lädt regelmäßig zu Blues- und Rockkonze
 rten mit nationalen und internationalen Spitzenbands ein.\nEs ist vorgesehe
 n, die Weiler Bluesnächte auch zukünftig mit 2 bis 3 Konzerten pro Jahr for
 tzusetzen.\n\nWeiler Bluesnächte: Zed Mitchell\n\nTermin:\nFreitag, 30.09.2
 022, 20:00 Uhr\nEinlassbeginn: 19:00 Uhr\nVeranstaltungsort:\nAltes Rathaus
  Weil am Rhein\nGewölbekeller\nHinterdorfstraße 39\n79576 Weil am Rhein\nEi
 ntrittspreis:\n17,- EUR, ermäßigt 12,- EUR (für Schüler*innen und Studieren
 de)\nTickets:\nwww.reservix.de (https://deref-gmx.net/mail/client/b12W4p9GV
 os/dereferrer/?redirectUrl=https%3A%2F%2Fwww.reservix.de%2Ftickets-weiler-b
 luesnaechte-zed-mitchell-in-weil-am-rhein-altes-rathaus-gewoelbekeller-am-3
 0-9-2022%2Fe1975326)\nsowie in der Geschäftsstelle der Oberbadischen Zeitun
 g in Weil am Rhein und den Vorverkaufsstellen der Badischen Zeitung.\n
X-ALT-DESC;FMTTYPE=text/html:<p><strong>Die Weiler Bluesnächte sind zurück<br /><em>Blueslegende Zed Mit
 chell Ende September im Gewölbekeller des Alten Rathauses</em></strong><br 
 /><br />Weil am Rhein. Im Januar 2020 fand die letzte Weiler Bluesnacht sta
 tt, bevor die Corona-Pandemie alle weiteren Planungen abrupt durchkreuzte. 
 Seit Ende vergangenen Jahres laufen jedoch die Vorbereitungen für die Wiede
 raufnahme dieser beliebten Veranstaltungsreihe, in deren Rahmen schon viele
  Stars der Blueszene in der 3-Länder-Stadt aufgetreten sind.<br /><br />Mit
  Zed Mitchell konnte das Kulturamt, welches die Reihe zusammen mit dem „Jaz
 z und Blues Südbaden - exbluesive e. V." organisiert, nun einen der führend
 en Blues-Gitarristen Europas für einen Auftritt im Gewölbekeller des Alten 
 Rathauses in der Hinterdorfstraße verpflichten. Er steht dort am 30. Septem
 ber zusammen mit seinem Sohn Todor, dem Bassisten Philipp Schäfer und dem D
 rummer Konrad Matheus auf der Bühne.<br /><br />Im Gepäck haben die Musiker
  ihr aktuelles Album „Route 69“. Angelehnt an die legendäre Route 66, fährt
  Zed Mitchell mit diesem Album die musikalischen Stationen<br />seines Lebe
 ns ab. Die Songs, die er mit seiner außergewöhnlichen 5-Oktaven umfassenden
  Stimme vorträgt, erzählen seine Lebensgeschichte. Produziert wurde das Alb
 um in Studios in Berlin und Essen. Für das Songwriting und die Produktion z
 eichnet Mitchell selbst verantwortlich.<br /><br />Die neuen Tracks sind ma
 l ruhig, dann ruppig und wieder sanft. Mitchell präsentiert sein bisher per
 sönlichstes Album, das ans Herz und in die Beine geht.<br /><br />Die Weile
 r Bluesnächte haben eine lange Tradition. Ursprünglich holte das Kulturamt 
 der 3-Länder-Stadt 25 Jahre lang gemeinsam mit dem Jazz-Experten Dieter Bru
 now aus Haltingen internationale Top-Stars der Jazz-Szene in den Gewölbekel
 ler des Alten Rathauses nach Altweil.<br />Später konnte die Gruppe&nbsp;„E
 xbluesive“&nbsp;um den Blues-Experten Klaus Deuss als Partner für diese gef
 ragte Musikreihe gewonnen werden. Nach seinem Tod im Jahr 2020 und einer pa
 ndemiebedingten Pause setzt das Kulturamt die Reihe nun mit dem „Jazz und B
 lues Südbaden - exbluesive e. V." fort. Der Verein besteht aus bluesbegeist
 erten Musikliebhabern aus dem südbadischen Raum und lädt regelmäßig zu Blue
 s- und Rockkonzerten mit nationalen und internationalen Spitzenbands ein.<b
 r />Es ist vorgesehen, die Weiler Bluesnächte auch zukünftig mit 2 bis 3 Ko
 nzerten pro Jahr fortzusetzen.<br /><br /><strong>Weiler Bluesnächte: Zed M
 itchell<br /><br />Termin:<br /></strong>Freitag, 30.09.2022, 20:00 Uhr<br 
 />Einlassbeginn: 19:00 Uhr<br /><strong>Veranstaltungsort:</strong><br />Al
 tes Rathaus Weil am Rhein<br />Gewölbekeller<br />Hinterdorfstraße 39<br />
 79576 Weil am Rhein<br /><strong>Eintrittspreis:</strong><br />17,- EUR, er
 mäßigt 12,- EUR (für Schüler*innen und Studierende)<br /><strong>Tickets:</
 strong><span style="text-decoration: underline;"><br /></span><a href="http
 s://deref-gmx.net/mail/client/b12W4p9GVos/dereferrer/?redirectUrl=https%3A%
 2F%2Fwww.reservix.de%2Ftickets-weiler-bluesnaechte-zed-mitchell-in-weil-am-
 rhein-altes-rathaus-gewoelbekeller-am-30-9-2022%2Fe1975326" target="_blank"
  rel="noopener">www.reservix.de</a><br />sowie in der Geschäftsstelle der O
 berbadischen Zeitung in Weil am Rhein und den Vorverkaufsstellen der Badisc
 hen Zeitung.</p>
DTSTAMP:20260422T185916
DTSTART;TZID=Europe/Berlin:20220930T200000
SEQUENCE:0
TRANSP:OPAQUE
END:VEVENT
END:VCALENDAR