BEGIN:VCALENDAR
VERSION:2.0
PRODID:-//jEvents 2.0 for Joomla//EN
CALSCALE:GREGORIAN
METHOD:PUBLISH
BEGIN:VTIMEZONE
TZID:Europe/Berlin
BEGIN:STANDARD
DTSTART:20211031T020000
RDATE:20220327T030000
TZOFFSETFROM:+0200
TZOFFSETTO:+0100
TZNAME:Europe/Berlin CET
END:STANDARD
BEGIN:STANDARD
DTSTART:20221030T020000
RDATE:20230326T030000
TZOFFSETFROM:+0200
TZOFFSETTO:+0100
TZNAME:Europe/Berlin CET
END:STANDARD
BEGIN:STANDARD
DTSTART:20231029T020000
RDATE:20240331T030000
TZOFFSETFROM:+0200
TZOFFSETTO:+0100
TZNAME:Europe/Berlin CET
END:STANDARD
BEGIN:STANDARD
DTSTART:20241027T020000
RDATE:20250330T030000
TZOFFSETFROM:+0200
TZOFFSETTO:+0100
TZNAME:Europe/Berlin CET
END:STANDARD
BEGIN:DAYLIGHT
DTSTART:20210727T190000
RDATE:20211031T020000
TZOFFSETFROM:+0100
TZOFFSETTO:+0200
TZNAME:Europe/Berlin CEST
END:DAYLIGHT
BEGIN:DAYLIGHT
DTSTART:20220327T030000
RDATE:20221030T020000
TZOFFSETFROM:+0100
TZOFFSETTO:+0200
TZNAME:Europe/Berlin CEST
END:DAYLIGHT
BEGIN:DAYLIGHT
DTSTART:20230326T030000
RDATE:20231029T020000
TZOFFSETFROM:+0100
TZOFFSETTO:+0200
TZNAME:Europe/Berlin CEST
END:DAYLIGHT
BEGIN:DAYLIGHT
DTSTART:20240331T030000
RDATE:20241027T020000
TZOFFSETFROM:+0100
TZOFFSETTO:+0200
TZNAME:Europe/Berlin CEST
END:DAYLIGHT
END:VTIMEZONE
BEGIN:VEVENT
UID:6acb92ff6d21d3d5efacad79ed3571a2
CATEGORIES:Kino
CREATED:19700101T010000
SUMMARY:Kieswerk Open Air
LOCATION:Kieswerk Weil-Otterbach
DESCRIPTION:Der erste Tag der Sommerferien in Baden-Württemberg ist nicht nur für Schül
 er*innen besonders. Dann beginnt auch immer das 11-tägige Kieswerk Open Air
 . Dieses über viele Jahre zur Tradition gewordene Open-Air-Kino wird durch 
 musikalische Auftritte (https://www.kieswerk-open-air.de/de/musikprogramm/)
 , ein umfangreiches <a href="https://www.kieswerk-open-air.de/de/kulinarisc
 hes/">kulinarisches Angebot</a> und die Präsentation von Kunst (https://www
 .kieswerk-open-air.de/de/kunst/) ergänzt. Auch der Ort, an dem das Kieswerk
  Open Air stattfindet, ist besonders: Auf dem Gartengelände zwischen dem eh
 emaligen Mischwerk der früheren Kiesgrube und dem architektonisch bemerkens
 werten "Landscape Formation One" der Stararchitektin Zaha Hadid lassen sich
  in lauen Sommernächten sehenswerte Filme in einer besonderen Atmosphäre ge
 nießen.\n<a href="https://www.kieswerk-open-air.de/de/" target="_blank" rel
 ="noopener" title="Webseite Kieswerk Open Air 2022">Webseite Kieswerk Open 
 Air 2022</a>\n
X-ALT-DESC;FMTTYPE=text/html:<p>Der erste Tag der Sommerferien in Baden-Württemberg ist nicht nur für Sc
 hüler*innen besonders. Dann beginnt auch immer das 11-tägige Kieswerk Open 
 Air. Dieses über viele Jahre zur Tradition gewordene Open-Air-Kino wird dur
 ch&nbsp;<strong><a href="https://www.kieswerk-open-air.de/de/musikprogramm/
 ">musikalische Auftritte</a></strong>, ein umfangreiches&nbsp;<strong><a hr
 ef="https://www.kieswerk-open-air.de/de/kulinarisches/">kulinarisches Angeb
 ot</a></strong>&nbsp;und die&nbsp;<strong><a href="https://www.kieswerk-ope
 n-air.de/de/kunst/">Präsentation von Kunst</a></strong>&nbsp;ergänzt. Auch 
 der Ort, an dem das Kieswerk Open Air stattfindet, ist besonders: Auf dem G
 artengelände zwischen dem ehemaligen Mischwerk der früheren Kiesgrube und d
 em architektonisch bemerkenswerten "Landscape Formation One" der Stararchit
 ektin Zaha Hadid lassen sich in lauen Sommernächten sehenswerte Filme in ei
 ner besonderen Atmosphäre genießen.</p><p><strong><a href="https://www.kies
 werk-open-air.de/de/" target="_blank" rel="noopener" title="Webseite Kieswe
 rk Open Air 2022">Webseite Kieswerk Open Air 2022</a><span></span></strong>
 </p>
CONTACT:kulturamt@weil-am-rhein.de
DTSTAMP:20260422T133735
DTSTART;TZID=Europe/Berlin:20220728T190000
SEQUENCE:0
RRULE:FREQ=DAILY;UNTIL=20220808T000000Z;INTERVAL=1
TRANSP:OPAQUE
END:VEVENT
END:VCALENDAR