BEGIN:VCALENDAR
VERSION:2.0
PRODID:-//jEvents 2.0 for Joomla//EN
CALSCALE:GREGORIAN
METHOD:PUBLISH
BEGIN:VTIMEZONE
TZID:Europe/Berlin
BEGIN:STANDARD
DTSTART:20211031T020000
RDATE:20220327T030000
TZOFFSETFROM:+0200
TZOFFSETTO:+0100
TZNAME:Europe/Berlin CET
END:STANDARD
BEGIN:STANDARD
DTSTART:20221030T020000
RDATE:20230326T030000
TZOFFSETFROM:+0200
TZOFFSETTO:+0100
TZNAME:Europe/Berlin CET
END:STANDARD
BEGIN:STANDARD
DTSTART:20231029T020000
RDATE:20240331T030000
TZOFFSETFROM:+0200
TZOFFSETTO:+0100
TZNAME:Europe/Berlin CET
END:STANDARD
BEGIN:STANDARD
DTSTART:20241027T020000
RDATE:20250330T030000
TZOFFSETFROM:+0200
TZOFFSETTO:+0100
TZNAME:Europe/Berlin CET
END:STANDARD
BEGIN:DAYLIGHT
DTSTART:20210829T000000
RDATE:20211031T020000
TZOFFSETFROM:+0100
TZOFFSETTO:+0200
TZNAME:Europe/Berlin CEST
END:DAYLIGHT
BEGIN:DAYLIGHT
DTSTART:20220327T030000
RDATE:20221030T020000
TZOFFSETFROM:+0100
TZOFFSETTO:+0200
TZNAME:Europe/Berlin CEST
END:DAYLIGHT
BEGIN:DAYLIGHT
DTSTART:20230326T030000
RDATE:20231029T020000
TZOFFSETFROM:+0100
TZOFFSETTO:+0200
TZNAME:Europe/Berlin CEST
END:DAYLIGHT
BEGIN:DAYLIGHT
DTSTART:20240331T030000
RDATE:20241027T020000
TZOFFSETFROM:+0100
TZOFFSETTO:+0200
TZNAME:Europe/Berlin CEST
END:DAYLIGHT
END:VTIMEZONE
BEGIN:VEVENT
UID:9e2fb4c463d3dfce7c2c3a1a04ae4413
CATEGORIES:Ausflüge und Exkursionen
CREATED:20220607T085218
SUMMARY:Ausflug nach Offenburg mit dem Verein für Heimatgeschichte und Volkskunde
LOCATION:Offenburg
DESCRIPTION:Die demokratische Erhebung in Baden und Deutschland jährt sich 2023 zum hun
 dertfünfundsiebzigsten Mal. Der Verein für Heimatgeschichte nimmt das zum A
 nlass, dieser Ereignisse zu gedenken und damit eine überaus wertvolle und p
 ositive Tradition erneut ins Gedächtnis zu rufen.Wir beginnen mit dem Besuc
 h der Erinnerungsstätte im Offenburger Gasthaus Salmen, wo vor fast genau 1
 75 Jahren, am 12. September 1847, die Dreizehn Forderungen des Volkes aufge
 stellt wurden. Die dort erhobenen politischen Forderungen prägten nicht nur
  bereits sechs Monate später die Deutsche Revolution von 1848, sondern symb
 olisieren, weil lange nicht eingelöst, das Freiheitsverlangen der Deutschen
 .Am Dienstag, den 30. August, besuchen wir mit Offenburg, einen zentralen O
 rt der deutschen Demokratiebewegung. Zunächst machen wir ab 10:30 Uhr einen
  kurzen Stadtrundgang. Nach der Mittagspause besuchen wir um 14.00 Uhr den 
 kürzlich neu eröffneten Salmen, Ort der Demokratiegeschichte und Kulturdenk
 mal von nationaler Bedeutung. Kosten 5,-€/Pers. Für den GruppeneintrittAnre
 ise in eigener Regie, z.B. mit dem 9 Euro Ticket der DB. Abfahrt 8:32 Uhr a
 b Weil Hbf und zeitversetzt an den weiteren Haltestellen Richtung Freiburg.
  Anmeldung erforderlich per mail: Diese E-Mail-Adresse ist vor Spambots ges
 chützt! Zur Anzeige muss JavaScript eingeschaltet sein. oder Tel. 07621 792
 349 (Siemann)Weiterhin sind folgende Veranstaltungen geplant:Gastvortrag vo
 n Professor Dr. Thomas Schnabel (Heidelberg). Der frühere Direktor des Haus
 es der Geschichte Baden-Württembergs spricht über: 175 Jahre danach: was bl
 eibt von der 48er Revolution? Genauer Titel und Termin stehen noch nicht fe
 st.Ferner ist ein Besuch der Erinnerungsstätte für die Freiheitsbewegungen 
 in der deutschen Geschichte im Schloss Rastatt geplant.\n
X-ALT-DESC;FMTTYPE=text/html:<p><span dir="ltr" role="presentation">Die demokratische Erhebung in Baden 
 und Deutschland jährt sich 2023 zum </span><br role="presentation" /><span 
 dir="ltr" role="presentation">hundertfünfundsiebzigsten Mal. Der Verein für
  Heimatgeschichte nimmt das zum Anlass, dieser </span><br role="presentatio
 n" /><span dir="ltr" role="presentation">Ereignisse zu gedenken und damit e
 ine überaus wertvolle und positive Tradition erneut ins </span><br role="pr
 esentation" /><span dir="ltr" role="presentation">Gedächtnis zu rufen.</spa
 n><br role="presentation" /><span dir="ltr" role="presentation">Wir beginne
 n mit dem </span><span dir="ltr" role="presentation">Besuch der Erinnerungs
 stätte im Offenburger Gasthaus </span><span dir="ltr" role="presentation">S
 almen</span><span dir="ltr" role="presentation">, wo vor fast </span><br ro
 le="presentation" /><span dir="ltr" role="presentation">genau 175 Jahren, a
 m 12. September 1847, die </span><span dir="ltr" role="presentation">Dreize
 hn Forderungen des Volkes </span><span dir="ltr" role="presentation">aufges
 tellt wurden. </span><br role="presentation" /><span dir="ltr" role="presen
 tation">Die dort erhobenen politischen Forderungen prägten nicht nur bereit
 s sechs Monate später die </span><br role="presentation" /><span dir="ltr" 
 role="presentation">Deutsche Revolution von 1848, sondern symbolisieren, we
 il lange nicht eingelöst, das </span><br role="presentation" /><span dir="l
 tr" role="presentation">Freiheitsverlangen der Deutschen.</span><br role="p
 resentation" /><span dir="ltr" role="presentation">Am Dienstag, den </span>
 <span dir="ltr" role="presentation">30. August</span><span dir="ltr" role="
 presentation">, besuchen wir mit Offenburg, einen zentralen Ort der deutsch
 en </span><br role="presentation" /><span dir="ltr" role="presentation">Dem
 okratiebewegung. Zunächst machen wir ab 10:30 Uhr einen kurzen Stadtrundgan
 g. Nach der </span><br role="presentation" /><span dir="ltr" role="presenta
 tion">Mittagspause besuchen wir um 14.00 Uhr den kürzlich neu eröffneten </
 span><span dir="ltr" role="presentation">Salmen</span><span dir="ltr" role=
 "presentation">, Ort der </span><br role="presentation" /><span dir="ltr" r
 ole="presentation">Demokratiegeschichte und Kulturdenkmal von nationaler Be
 deutung. Kosten 5,-€/Pers. Für den </span><br role="presentation" /><span d
 ir="ltr" role="presentation">Gruppeneintritt</span><br role="presentation" 
 /><span dir="ltr" role="presentation">Anreise in eigener Regie, z.B. mit de
 m 9 Euro Ticket der DB. Abfahrt 8:32 Uhr ab Weil Hbf und </span><br role="p
 resentation" /><span dir="ltr" role="presentation">zeitversetzt an den weit
 eren Haltestellen Richtung Freiburg. </span><br role="presentation" /><span
  dir="ltr" role="presentation">Anmeldung erforderlich per mail: <joomla-hid
 den-mail  is-link="1" is-email="1" first="aGVpbWF0Z2VzY2hpY2h0ZS53ZWlsLmFtL
 nJoZWlu" last="Z21haWwuY29t" text="aGVpbWF0Z2VzY2hpY2h0ZS53ZWlsLmFtLnJoZWlu
 QGdtYWlsLmNvbQ==" base="" >Diese E-Mail-Adresse ist vor Spambots geschützt!
  Zur Anzeige muss JavaScript eingeschaltet sein.</joomla-hidden-mail> oder 
 Tel. 07621 </span><br role="presentation" /><span dir="ltr" role="presentat
 ion">792349 (Siemann)</span><br role="presentation" /><span dir="ltr" role=
 "presentation">Weiterhin sind folgende Veranstaltungen geplant:</span><br r
 ole="presentation" /><span dir="ltr" role="presentation">Gastvortrag von Pr
 ofessor Dr. Thomas Schnabel (Heidelberg). Der frühere Direktor des Hauses d
 er </span><br role="presentation" /><span dir="ltr" role="presentation">Ges
 chichte Baden-Württembergs spricht über: </span><span dir="ltr" role="prese
 ntation">175 Jahre danach: was bleibt von der 48er </span><br role="present
 ation" /><span dir="ltr" role="presentation">Revolution?</span><span dir="l
 tr" role="presentation"> Genauer Titel und Termin stehen noch nicht fest.</
 span><br role="presentation" /><span dir="ltr" role="presentation">Ferner i
 st ein Besuch der </span><span dir="ltr" role="presentation">Erinnerungsstä
 tte für die Freiheitsbewegungen in der deutschen Geschichte</span><span dir
 ="ltr" role="presentation"> </span><br role="presentation" /><span dir="ltr
 " role="presentation">im Schloss Rastatt geplant.</span></p>
CONTACT:http://www.heimatgeschichte-weil-am-rhein.de/
DTSTAMP:20260422T115919
DTSTART;TZID=Europe/Berlin;VALUE=DATE:20220830
DTEND;TZID=Europe/Berlin;VALUE=DATE:20220831
SEQUENCE:0
TRANSP:OPAQUE
END:VEVENT
END:VCALENDAR